BEGIN:VCALENDAR
VERSION:2.0
PRODID:-//DAM Online - ECPv6.15.20//NONSGML v1.0//EN
CALSCALE:GREGORIAN
METHOD:PUBLISH
X-WR-CALNAME:DAM Online
X-ORIGINAL-URL:https://tempo.dam-online.de
X-WR-CALDESC:Veranstaltungen für DAM Online
REFRESH-INTERVAL;VALUE=DURATION:PT1H
X-Robots-Tag:noindex
X-PUBLISHED-TTL:PT1H
BEGIN:VTIMEZONE
TZID:Europe/Berlin
BEGIN:DAYLIGHT
TZOFFSETFROM:+0100
TZOFFSETTO:+0200
TZNAME:CEST
DTSTART:20040328T010000
END:DAYLIGHT
BEGIN:STANDARD
TZOFFSETFROM:+0200
TZOFFSETTO:+0100
TZNAME:CET
DTSTART:20041031T010000
END:STANDARD
BEGIN:DAYLIGHT
TZOFFSETFROM:+0100
TZOFFSETTO:+0200
TZNAME:CEST
DTSTART:20050327T010000
END:DAYLIGHT
BEGIN:STANDARD
TZOFFSETFROM:+0200
TZOFFSETTO:+0100
TZNAME:CET
DTSTART:20051030T010000
END:STANDARD
BEGIN:DAYLIGHT
TZOFFSETFROM:+0100
TZOFFSETTO:+0200
TZNAME:CEST
DTSTART:20060326T010000
END:DAYLIGHT
BEGIN:STANDARD
TZOFFSETFROM:+0200
TZOFFSETTO:+0100
TZNAME:CET
DTSTART:20061029T010000
END:STANDARD
END:VTIMEZONE
BEGIN:VEVENT
DTSTART;TZID=Europe/Berlin:20050806T000000
DTEND;TZID=Europe/Berlin:20051030T000000
DTSTAMP:20260422T221223
CREATED:20050917T181607Z
LAST-MODIFIED:20211208T131321Z
UID:10048180-1123286400-1130630400@tempo.dam-online.de
SUMMARY:ROB KRIER. Ein romantischer Rationalist. Architekt und Stadtplaner
DESCRIPTION:6. August – 30. Oktober 2005Anlässlich der Schenkung des kompletten Vorlasses von Rob Krier \nRob Krier zählt zu den bedeutenden Stadtplanern und Architekten der Postmoderne.Anders als diejenigen Protagonisten der Postmoderne\, die den Rückgriff auf die Architekturgeschichte spielerisch-ironisch nutzten\, war es Rob Krier damit immer ernst. Die Fortschreibung von Geschichte und eine Ästhetisierung der Architektur sind für ihn der Weg\, eine in seinen Augen durch die Moderne verloren gegangene Baukunst wieder zu beleben. Der Blick zurück und seine vor allem in den letzten Jahren immer wörtlichere Aufnahme historischer Formen haben ihm einerseits Kritik eingebracht\, andererseits sind seine Stadtanlagen und Wohnquartiere gefragt. Nie war sein Erfolg so groß wie in den letzten Jahren\, insbesondere in den Niederlanden. Krier schafft Stadträume\, die für die Bewohner zu behüteten Lebensräumen werden\, zu Orten der Identifikation. Die kleinteiligen\, liebevoll entworfenen einzelnen Häuser – fast immer im Team mit anderen Architekten gestaltet -geben den Bewohnern das Gefühl\, ihrer individuellen Lebensgeschichte ein Gesicht zu verleihen. Kriers städtebaulichen Planungen und Rekonstruktionen stehen ganz bewusst in die Tradition der europäischen Stadt\, sie basieren auf den Überlegungen Camillo Sittes vom leeren und bebauten Stadtraum. So schafft Rob Krier streng definierte\, aber stets unterschiedlich gestaltete Stadträume\, die durch Achsen mit einander in Beziehung gesetzt werden. Zu seinen neuesten Projekten gehören das Stadtviertel Kirchsteigfeld bei Potsdam\, 1991-97; De Resident in Den Haag\, 1993-2001; der Noorderhof bei Amsterdam\, 1994-99; die Veste Brandevoort bei Helmond\, seit 1995; die Citadel Broekpolder bei Beverwijk\, 2000-2004; und die Planungen für die die Cité Judiciaire in seiner Heimatstadt Luxemburg\, seit 1992. In engem Zusammenhang mit seinen städtebaulichen Planungen stehen auch seine frühen\, sehr einflussreichen Entwürfe und Wohnbebauungen im Rahmen der IBA in Berlin. Mit seinem 1975 erschienen Manifest „Stadtraum. In Theorie und Praxis“ trat Rob Krier erstmals in das Bewusstsein einer breiteren Öffentlichkeit. Von diesem Zeitpunkt an blieb die Stadtplanung seine Domäne\, obwohl er eigentlich lieber Kathedralen\, Rathäuser und andere öffentliche Bauwerke entworfen hätte. So sind auch der Architekt\, der Architekturzeichner und der Bildhauer Rob Krier weniger bekannt als der Stadtplaner.Rob Krier ist einer der ungewöhnlichsten und begnadeten Architekturzeichner des 20. Jahrhunderts. Seine stark farbig angelegten\, detailreich ausgeführten Zeichnungen sind eigentlich mehr Architekturveduten. Stets sind die Blätter mit opulenten figürlichen Darstellungen ausgeschmückt\, so dass jeweils ein poetischer Rahmen entsteht. Rob Kriers Architekturdarstellungen stehen in der Tradition des malerischen „Architekturbildes“ als eigenständiger künstlerischer Ausdruck. Die Rückbesinnung und Wiederbelebung dieser malerischen Maniera ist bei Rob Krier die logische Konsequenz aus seiner architektonischen Haltung\, die die gefassten Raumbilder in der Tradition der europäischen Stadt zum Leitmotiv hat. \nIn einer großen Werkschau wird das DAM erstmals alle diese Aspekte des künstlerischen Schaffens von Rob Krier bündeln. Es ist die erste monografische Ausstellung über den Luxemburger überhaupt. \nGrundlage für die Ausstellung und den Katalog bildet das komplette Werkarchiv des Architekten\, das dieser 2003 demDAM großzügig schenkte. Das Archiv Rob Kriers im DAM umfasst zurzeit alle seine Planungen von frühen Studienarbeiten bis zum Jahre 2004\, insgesamt 244 Projekte mit fast 10.000 Blättern.Inventarisiert wurde der Bestand auf der Basis des Archivierungsprogramms MuseumPlus\, ein Stipendium der Gesellschaft der Freunde des DAM hat dies ermöglicht. So soll es langfristig möglich sein\, die Informationen ins Internet zu stellen. Ein Einblick in den Bestand des Werkarchivs von Rob Krier im DAM ist auf der Webseite www.dam-archiv.de möglich. \nZur Ausstellung erscheint ein umfangreicher\, mit einer kompletten Werkliste versehener Katalog über das architektonische\, städtebauliche und zeichnerische Werk von Rob Krier bei Springer / Wien. Der Katalog in deutsch und englischer Sprache mit einem Beiheft in Französisch wird herausgegeben von Ursula Kleefisch-Jobst und Ingeborg Flagge. Er enthält Beiträgen von Nada und Marc Breitman\, Helmut Böhme\, Ursula Kleefisch-Jobst\, Johann Kräftner\, Léon Krier\, Bart Lootsma\, Marion Sauter und Bernhard Schäfers. \nAm 13. Oktober 2005 um 19:00 Uhr wird Rob Krier im DAM einen Vortrag halten zum Thema „Stadtbaukunst. Vision und Realität“ \nDie Ausstellung ist eine Kooperation zwischen dem DAM und dem Ministère de la Culture de l´Enseignement Supériereur et de la Recherche / Luxembourg und wird daher 2006 in Luxemburg zu sehen sein. Finanziell unterstützt wurde die Ausstellung von Ernst & Young. \n 
URL:https://tempo.dam-online.de/veranstaltung/archiv-rob-krier-ein-romantischer-rationalist-architekt-und-stadtplaner/
LOCATION:Deutsches Architekturmuseum (DAM)\, Schaumainkai 43\, Frankfurt / M.\, Hessen\, D-60596
CATEGORIES:Ausstellung
ORGANIZER;CN="DAM-Deutsches-Architekturmuseum":MAILTO:info.dam@stadt-frankfurt.de
END:VEVENT
BEGIN:VEVENT
DTSTART;TZID=Europe/Berlin:20050929T000000
DTEND;TZID=Europe/Berlin:20051009T000000
DTSTAMP:20260422T221223
CREATED:20051008T093915Z
LAST-MODIFIED:20211208T131315Z
UID:10048181-1127952000-1128816000@tempo.dam-online.de
SUMMARY:EIN NOMADENHOTEL FÜR FRANKFURT. Neue Ideen für das temporäre Wohnen\, Internationaler studentischer Wettbewerb
DESCRIPTION:Ausstellung der prämierten Arbeiten des 2.XELLA Studentenwettbewerbsvom 29. September bis zum 9. Oktober 2005 \nÜber 430 Einsendungen von bundesweit 53 Hochschulen verzeichnete der diesjährige XELLA Studentenwettbewerb\, 257 der eingereichten Arbeiten wurden letztlich von den Jurys bewertet. „Ein Nomadenhotel für Frankfurt ? Neue Ideen für das temporäre Wohnen“ lautete die Aufgabe. Konkret vorgegeben für die Entwurfsplanung war ein Grundstück an der Honsell-Brücke im Osthafen nahe der künftigen Verwaltung der Europäischen Zentralbank. Aus den zwölf besten Entwürfen hat jetzt eine Jury unter Vorsitz von Frau Professor Ursula Ringleben\, Bergische Universität Wuppertal\, die drei Bundessieger ermittelt. \nDie Preisverleihung findet stattam 28. September 2005 um 10:30 Uhr \nDen Festvortrag hält Peter Herbstreuth\, Universität der Künste Berlin\, zum Thema: „Nomade ? Mobilität und temporäres Wohnen“. \nXella International ist ein Unternehmensbereich der Haniel-Gruppe. Mit Marken wie YTONG\, HEBEL und SILKA ist XELLA der weltweit größte Produzent von Porenbeton und Kalksandsteinen und mit der Marke FERMACELL führend in der Herstellung von Gipsfaser-Platten. \n 
URL:https://tempo.dam-online.de/veranstaltung/archiv-ein-nomadenhotel-fur-frankfurt-neue-ideen-fur-das-temporare-wohnen-internationaler-studentischer-wettbewerb/
LOCATION:Deutsches Architekturmuseum (DAM)\, Schaumainkai 43\, Frankfurt / M.\, Hessen\, D-60596
CATEGORIES:Ausstellung
ORGANIZER;CN="DAM-Deutsches-Architekturmuseum":MAILTO:info.dam@stadt-frankfurt.de
END:VEVENT
BEGIN:VEVENT
DTSTART;TZID=Europe/Berlin:20051004T000000
DTEND;TZID=Europe/Berlin:20051211T000000
DTSTAMP:20260422T221223
CREATED:20051020T194900Z
LAST-MODIFIED:20211208T131313Z
UID:10048908-1128384000-1134259200@tempo.dam-online.de
SUMMARY:A LIFETIME FOR ARCHITECTURE. The Photographer Julius Shulman
DESCRIPTION:Ein Leben für die Architektur. Der Fotograf Julius Shulman \n4. Oktober bis 11. Dezember 2005 \nMit der Fotografie folgte Shulman (* 10.10.1910) einem früh geweckten Interesse\, eine klassische Ausbildung hat er nicht durchlaufen. Anfangs noch mit der „vestpocket“-Kamera unterwegs\, professionalisierte er nach und nach seine Ausrüstung. Durch die zufällige Begegnung mit Richard Neutra 1936 begann seine steile Karriere als Architekturfotograf. Shulmans Auftraggeber schätzen an ihm\, dass er der Architektur immer gerecht wird\, sei es in der Darstellung der anfangs unvertrauten Klarheit der Architektursprache des International Style oder in der Berücksichtigung der jeweiligen Umgebung der Gebäude. Dabei bewahrte Shulman sich immer seine Eigenständigkeit und widersetzte sich Anweisungen\, die seiner Auffassung von Bildinszenierung widersprachen. Durch die Veröffentlichung seiner Fotos in Zeitungen\, Fachzeitschriften\, aber auch populären Zeitschriften trug er früh dazu bei\, die verschiedenen Architekturströmungen einem breiteren Publikum als je zuvor zu präsentieren. \nAnlässlich des 95. Geburtstags von Julius Shulman zeigt das DAM einen Querschnitt durch das Werk des „großen alten Herren“ der Architekturfotografie\, der seit den 30er Jahren des vorigen Jahrhunderts das Architekturgeschehen mit seiner Kamera verfolgt. Dabei werden Projekte der „Klassiker“ moderner Architektur präsentiert\, die häufig europäische Wurzeln haben. Viele dieser Vertreter begleitete Shulman über Jahrzehnte mit seiner Kamera. Er begab sich aber auch auf die Spuren seiner Landsleute (wie beispielsweise Frank Lloyd Wright und Gregory Ain) und hat dadurch eine umfassende fotografische Dokumentation der Architektur der USA des 20. Jahrhunderts geschaffen. Aber nicht nur in Nordamerika und bei der Betrachtung der Gebäude von außen war und ist Shulman aktiv. Auf seinen ausgedehnten Reisen fotografierte er die Tempelruinen der Maya auf Jucatán/México ebenso wie die Regierungsgebäude in Brasilia von Oscar Niemeyer. Jüngere Beispiele seiner – wie er sagt – „Dritten Lebensphase“ – sind das Getty Center in Brentwood hoch über Los Angeles von Richard Meier (1992 – 1997) und die Walt Disney Concert Hall von Frank O. Gehry (1999 – 2003). Seit 1999 arbeitet Shulman mit dem Fotografen Jürgen Nogai zusammen. Das umfangreiche Archiv ist seit Dezember 2004 im Besitz des Getty Research Institute. \nDer heute 95 jährige Julius Shulman ist bei der Vernissage am 1. Oktober 2005 dabei. Er hält am 4. Oktober 2005 einen Vortrag im DAM über seine Fotografie. Zur Ausstellung erscheint ein Katalog (englisch/deutsch)\, der im DAM für 12 € erhältlich ist. \nDie Ausstellung wird gesponsert von Bilfinger Berger AG Hochbau und dem Generalkonsulat der USA in Frankfurt und entsteht in Kooperation mit dem Fotografie Forum international.
URL:https://tempo.dam-online.de/veranstaltung/archiv-a-lifetime-for-architecture-the-photographer-julius-shulman/
LOCATION:Deutsches Architekturmuseum (DAM)\, Schaumainkai 43\, Frankfurt / M.\, Hessen\, D-60596
CATEGORIES:Ausstellung
ORGANIZER;CN="DAM-Deutsches-Architekturmuseum":MAILTO:info.dam@stadt-frankfurt.de
END:VEVENT
BEGIN:VEVENT
DTSTART;TZID=Europe/Berlin:20051004T000000
DTEND;TZID=Europe/Berlin:20051211T000000
DTSTAMP:20260422T221223
CREATED:20211208T120927Z
LAST-MODIFIED:20220914T075021Z
UID:10048812-1128384000-1134259200@tempo.dam-online.de
SUMMARY:EIN LEBEN FÜR DIE ARCHITEKTUR — Der Fotograf Julius Shulman
DESCRIPTION:im DAM zu sehen von 04.10 bis 11.12.2005\, weitere Stationen in:
URL:https://tempo.dam-online.de/veranstaltung/archiv-ein-leben-fur-die-architektur-der-fotograf-julius-shulman/
LOCATION:Deutsches Architekturmuseum (DAM)\, Schaumainkai 43\, Frankfurt / M.\, Hessen\, D-60596
CATEGORIES:Ausstellung
ORGANIZER;CN="DAM-Deutsches-Architekturmuseum":MAILTO:info.dam@stadt-frankfurt.de
END:VEVENT
END:VCALENDAR