BEGIN:VCALENDAR
VERSION:2.0
PRODID:-//DAM Online - ECPv6.15.20//NONSGML v1.0//EN
CALSCALE:GREGORIAN
METHOD:PUBLISH
X-WR-CALNAME:DAM Online
X-ORIGINAL-URL:https://tempo.dam-online.de
X-WR-CALDESC:Veranstaltungen für DAM Online
REFRESH-INTERVAL;VALUE=DURATION:PT1H
X-Robots-Tag:noindex
X-PUBLISHED-TTL:PT1H
BEGIN:VTIMEZONE
TZID:Europe/Berlin
BEGIN:DAYLIGHT
TZOFFSETFROM:+0100
TZOFFSETTO:+0200
TZNAME:CEST
DTSTART:20030330T010000
END:DAYLIGHT
BEGIN:STANDARD
TZOFFSETFROM:+0200
TZOFFSETTO:+0100
TZNAME:CET
DTSTART:20031026T010000
END:STANDARD
BEGIN:DAYLIGHT
TZOFFSETFROM:+0100
TZOFFSETTO:+0200
TZNAME:CEST
DTSTART:20040328T010000
END:DAYLIGHT
BEGIN:STANDARD
TZOFFSETFROM:+0200
TZOFFSETTO:+0100
TZNAME:CET
DTSTART:20041031T010000
END:STANDARD
BEGIN:DAYLIGHT
TZOFFSETFROM:+0100
TZOFFSETTO:+0200
TZNAME:CEST
DTSTART:20050327T010000
END:DAYLIGHT
BEGIN:STANDARD
TZOFFSETFROM:+0200
TZOFFSETTO:+0100
TZNAME:CET
DTSTART:20051030T010000
END:STANDARD
BEGIN:DAYLIGHT
TZOFFSETFROM:+0100
TZOFFSETTO:+0200
TZNAME:CEST
DTSTART:20060326T010000
END:DAYLIGHT
BEGIN:STANDARD
TZOFFSETFROM:+0200
TZOFFSETTO:+0100
TZNAME:CET
DTSTART:20061029T010000
END:STANDARD
END:VTIMEZONE
BEGIN:VEVENT
DTSTART;TZID=Europe/Berlin:20040724T000000
DTEND;TZID=Europe/Berlin:20041017T000000
DTSTAMP:20260423T195020
CREATED:20040919T190703Z
LAST-MODIFIED:20211208T131246Z
UID:10048898-1090627200-1097971200@tempo.dam-online.de
SUMMARY:BAWA – GENIUS OF THE PLACE. An Architect of Sri Lanka
DESCRIPTION:An Architect of Sri Lanka \n24. Juli – 17. Oktober 2004 \nverlängerte Öffnungszeiten von 12.-17.10.2004: 10-20 Uhr \nGeoffrey Bawa gilt als einer der größten und einflussreichsten Architekten Asiens des 20. Jahrhunderts. Dort wird er als Vorbild und Guru verehrt\, in Europa kennt ihn kaum jemand. Dabei wurde er als erster Nichtmuslime 2001 für sein Lebenswerk mit dem Aga Khan Preis ausgezeichnet. \nBawa ist ein Regionalist im besten Sinn des Wortes\, ein Architekt\, dem es gelungen ist\, europäische Moderne mit tropischer heimischer Architektur zu verbinden und daraus unnachahmliche Bauten zu entwickeln: Wohnhäuser\, Schulen\, Universitäten\, Industriebauten\, Bürogebäude\, das Parlament von Sri Lanka in Colombo. Bawas Architektur entwickelt sich aus dem Geist eines Ortes; in der Wahl und Kombination seiner Materialien ist er Carlo Scarpa verwandt. Zahlreiche seiner minimalistischen Bauten erinnern an Luis Barragán\, den mexikanischen Baumeister.Bawas Architektur kennt nicht wie in Europa die Trennung von Innen und Außen. Häuser greifen in die Landschaft hinein\, die Natur verbindet sich mit einem Bau zu einem eigenen Raum. \nMit Lunuganga hat Geoffrey Bawa sich seinen persönlichen „locus amoenus“ geschaffen. Das Kunstwerk aus englischem Landschaftspark\, Renaissance-Ambiente und Urwald\, errichtet auf einer ehemaligen Gummiplantage\, ist heute einer der bedeutendsten Gärten Asiens. \nGeoffrey Bawa starb 2003. Das DAM zeigt in einer großen Ausstellung auf drei Geschossen erstmals das gesamte Oevre Bawas\, in Plänen\, Fotos\, Modellen\, Filmen\, Möbeln. Die Ausstellung inszeniert originale Ambientes mit Stoffen\, Kunst und Materialien aus Sri Lanka – ein Hauch der Tropen im DAM. \nDas DAM verwendet das Buch von David Robson „Bawa – The complete works“\, erschienen bei Thames+Hudson als Katalog (ca. 67 €). Ein Begleitbuch zur Ausstellung in deutsch/englisch ist auch für schmale Geldbeutel zu erwerben (12 €). \nErmöglicht wurde die Ausstellung mit der Unterstützung des Lunuganga Trusts und des Aga Khan Awards. Sie wird durch die Stadt Frankfurt und die Ernst&Young Wirtschaftsprüfungsgesellschaft finanziert. \n 
URL:https://tempo.dam-online.de/veranstaltung/archiv-bawa-genius-of-the-place-an-architect-of-sri-lanka/
LOCATION:Deutsches Architekturmuseum (DAM)\, Schaumainkai 43\, Frankfurt / M.\, Hessen\, D-60596
CATEGORIES:Ausstellung
ORGANIZER;CN="DAM-Deutsches-Architekturmuseum":MAILTO:info.dam@stadt-frankfurt.de
END:VEVENT
BEGIN:VEVENT
DTSTART;TZID=Europe/Berlin:20041029T000000
DTEND;TZID=Europe/Berlin:20050206T000000
DTSTAMP:20260423T195020
CREATED:20041103T235717Z
LAST-MODIFIED:20211208T131244Z
UID:10048899-1099008000-1107648000@tempo.dam-online.de
SUMMARY:DIE REVISION DER POSTMODERNE. In memoriam Heinrich Klotz. Eine Ausstellung zum zwanzigjährigen Bestehen des DAM
DESCRIPTION:29. Oktober 2004 bis 06. Februar 2005 \n1984 wurde das Deutsche Architekturmuseum (DAM) unter seinem Gründungsdirektor Heinrich Klotz mit der Ausstellung „Die Revision der Moderne. Postmoderne Architektur 1960-1980“ eröffnet. Diese Ausstellung\, wenngleich in der Fachwelt teilweise sehr umstritten\, lockte ungewöhnlich viele Besucher an\, die sich von der außergewöhnlichen „Buntheit“ und „Bildhaftigkeit“ der Exponate angezogen fühlten. Es war ein Verdienst dieser Schau\, das Thema Architektur populär gemacht und nunmehr auch in der Architekturtheorie eine breite Debatte zur Kritik an der „Moderne“ eröffnet zu haben\, die sich über Jahre erstrecken sollte. \nDie Ausstellung von 1984 propagierte mit der – bis heute weder zeitlich noch inhaltlich befriedigend und eindeutig definierten – sogenannten „Postmoderne“ in der Architektur eine keineswegs einheitliche Bewegung. Einflussreiche Architekturtheoretiker und Architekten haben sich stets von ihr distanziert. Einige Kritiker behaupten\, die Postmoderne sei zu Ende\, andere meinen\, sie dauere fort. Es ist aber unstrittig\, dass ein kulturelles Phänomen „Postmoderne“ existiert (hat) und dass sich in der Epoche der „Postmoderne“\, und auch durch sie\, kritisches Potenzial entwickelt und Architekten profiliert haben\, die neue\, interessante Wege in Architektur und Städtebau gegangen sind. \nZur Feier seines zwanzigjährigen Bestehens will das Deutsche Architektur Museum mit der Ausstellung „Die Revision der Postmoderne“ ausloten\, was aus dem Anspruch der Altmeister der „Postmoderne“\, Fehler der „Moderne“ und die Verdikte dogmatischen Rationalismus’ zu überwinden\, geworden ist. Es will ferner zeigen\, wie herausragende Architekten in jüngster Zeit die Erkenntnisse und Einflüsse\, die sich aus der Debatte um die „Postmoderne“ ergeben haben\, baulich umsetzen. Der Begriff „Revision“ im Titel der Ausstellung ist somit im Sinne von „Durchsicht“\, „Überprüfung“ zu verstehen; er will nicht suggerieren\, dass eine völlig Abkehr von den Prinzipien der „Postmoderne“ stattgefunden hat. Es geht also nicht um den Abgesang einer Epoche\, sondern um die Darstellung ihrer fortgesetzten und fortwährenden Erneuerung. \nDa sich die „Postmoderne“ durch die Gleichberechtigung und das Nebeneinander unterschiedlicher Auffassungen auszeichnet\, kommt für die Ausstellung „Die Revision der Postmoderne“ nicht in Frage\, eine lineare Entwicklung über zwanzig oder mehr zurückliegende Jahre zu konstruieren. Vielmehr sollen Projekte „postmoderner“ Pioniere aus der Eröffnungsausstellung des DAM – wie die von Gottfried Böhm; Mario Botta; Peter Eisenman; Frank O. Gehry; Giorgio Grassi; Haus Rucker Co; Hans Hollein; Helmut Jahn; Josef Paul Kleihues; Léon Krier; Rob Krier; Richard Meier; Charles Moore; OMA; Aldo Rossi; SITE; Thomas Gordon Smith; James Stirling; Oswald Mathias Ungers und Robert Venturi – Architekturbeispielen der Jahre ab Mitte 1990 bis Anfang 2000 gegenübersgestellt werden: von Tadao Ando; Auer+Weber; Shigeru Ban; Stephan Braunfels; Chetwood Associates; David Chipperfield; Coop Himmelb(l)au; Elizabeth Diller; Nicola Fortmann-Drühe; Norman Foster; Manuelle Gautrand; Zaha Hadid; Christine Hawley; Thomas Herzog; Steven Holl; Wilhelm Holzbauer; Ingenhoven\, Overdiek Architekten; Toyo Ito; Petra und Paul Kahlfeldt; Jan Kleihues; Kolatan/MacDonald Studio; Hans Kollhoff; Rem Koolhaas; Korteknie & Stuhlmacher; Rüdiger Lainer; William McDonough; Rafael Moneo; MVRDV; Netzwerkarchitekten mit Ralf Fleckenstein; Neutelings Riedijk Architecten; Jean Nouvel; John Pawson; Dominique Perrault; Muck Petzet; Renzo Piano; Richard Rogers; Sauerbruch Hutton Architekten; Axel Schultes; Martha Schwartz; Kazuyo Sejima; Álvaro Siza; Akiko Takahashi; Benedict Tonon; Katsu Umebayashi; Ben van Berkel; Meinhard von Gerkan und Manfred Wehdorn. Projekte\, die aufgrund bestimmter Qualitäten aufeinander bezogen werden können. Bei den aktuellen Beispielen\, die in der Ausstellung überwiegen\, geht es vor allem um zeitgemäße Versuche\, mit Architektur einer vielfältigen\, komplexen Realität zu begegnen\, die gerade nach der Hoch-Zeit der „Postmoderne“ von 1960 bis 1980 geprägt ist von großen gesellschaftlichen Umbrüchen wie dem „Ende der Ideologien“ mit dem Zerfall des Ostblocks oder dem Fortschreiten der Globalisierung mit überwiegend als negativ empfundenen Folgen. \nDie Schau wird insgesamt circa 70 Projekte aus Architektur und Städtebau behandeln und 300 bis 350 Exponate umfassen. Sie gliedert sich in die Sektionen: Kultur als Erlebnis\, Reorganisation der Stadt\, Öko als Investition\, High-Tech als Fortschritt\, Leben ohne Nostalgie\, Besonderheit des Ortes\, Neuverwendung der Säule\, Anknüpfen an Geschichte\, Populismus oder Baukunst\, Gegen die Konvention\, Häuser für Individualisten\, Shopping der Extraklasse\, und Orte der Stille. Im obersten Geschoss des Deutschen Architektur Museums wird eine Hommage an Oswald Mathias Ungers stattfinden. Ihm\, dem Erbauer\, soll an dieser Stelle nicht nur als bedeutendem Architekten\, sondern auch als wichtigem Theoretiker Referenz erwiesen werden. \nNeben der Aufgabe\, die Ausstellung in einer Publikation angemessen zu dokumentieren\, soll im Katalog versucht werden\, dem Begriff „Postmoderne“ im Hinblick darauf Profil zu geben\, was Architektur heute zu leisten vermag und zu leisten hat. Während die Ausstellung in erster Linie Bauten zeigt\, die sich durch eine besonders hohe Qualität auszeichnen\, versammelt der Katalog in seinem Essayteil vor allem auch kritische Stimmen. Es kommen also Gegner und Befürworter postmodernen Denkens und Handelns zu Wort: Architekten\, Architekturtheoretiker\, Kulturkritiker\, und Geisteswissenschaftler. \nDie Publikation wird von Ingeborg Flagge und Romana Schneider herausgegeben und beim Junius Verlag Hamburg zweisprachig deutsch/englisch in einem Umfang von 296 Seiten erscheinen. \nDie Ausstellung wird unterstützt von der Hessischen Kulturstiftung\, der Bundeskulturstiftung\, der Frankfurter Sparkasse 1822 und Ernst & Young.
URL:https://tempo.dam-online.de/veranstaltung/archiv-die-revision-der-postmoderne-in-memoriam-heinrich-klotz-eine-ausstellung-zum-zwanzigjahrigen-bestehen-des-dam/
LOCATION:Deutsches Architekturmuseum (DAM)\, Schaumainkai 43\, Frankfurt / M.\, Hessen\, D-60596
CATEGORIES:Ausstellung
ORGANIZER;CN="DAM-Deutsches-Architekturmuseum":MAILTO:info.dam@stadt-frankfurt.de
END:VEVENT
END:VCALENDAR