BEGIN:VCALENDAR
VERSION:2.0
PRODID:-//DAM Online - ECPv6.15.20//NONSGML v1.0//EN
CALSCALE:GREGORIAN
METHOD:PUBLISH
X-ORIGINAL-URL:https://tempo.dam-online.de
X-WR-CALDESC:Veranstaltungen für DAM Online
REFRESH-INTERVAL;VALUE=DURATION:PT1H
X-Robots-Tag:noindex
X-PUBLISHED-TTL:PT1H
BEGIN:VTIMEZONE
TZID:Europe/Berlin
BEGIN:DAYLIGHT
TZOFFSETFROM:+0100
TZOFFSETTO:+0200
TZNAME:CEST
DTSTART:20020331T010000
END:DAYLIGHT
BEGIN:STANDARD
TZOFFSETFROM:+0200
TZOFFSETTO:+0100
TZNAME:CET
DTSTART:20021027T010000
END:STANDARD
BEGIN:DAYLIGHT
TZOFFSETFROM:+0100
TZOFFSETTO:+0200
TZNAME:CEST
DTSTART:20030330T010000
END:DAYLIGHT
BEGIN:STANDARD
TZOFFSETFROM:+0200
TZOFFSETTO:+0100
TZNAME:CET
DTSTART:20031026T010000
END:STANDARD
BEGIN:DAYLIGHT
TZOFFSETFROM:+0100
TZOFFSETTO:+0200
TZNAME:CEST
DTSTART:20040328T010000
END:DAYLIGHT
BEGIN:STANDARD
TZOFFSETFROM:+0200
TZOFFSETTO:+0100
TZNAME:CET
DTSTART:20041031T010000
END:STANDARD
BEGIN:DAYLIGHT
TZOFFSETFROM:+0100
TZOFFSETTO:+0200
TZNAME:CEST
DTSTART:20050327T010000
END:DAYLIGHT
BEGIN:STANDARD
TZOFFSETFROM:+0200
TZOFFSETTO:+0100
TZNAME:CET
DTSTART:20051030T010000
END:STANDARD
END:VTIMEZONE
BEGIN:VEVENT
DTSTART;TZID=Europe/Berlin:20031111T120000
DTEND;TZID=Europe/Berlin:20040208T120000
DTSTAMP:20260424T102305
CREATED:20211208T120837Z
LAST-MODIFIED:20220913T134637Z
UID:10049648-1068552000-1076241600@tempo.dam-online.de
SUMMARY:LEICHT WEIT I LIGHT STRUCTURES
DESCRIPTION:Im DAM zu sehen von 22.11.03 bis 08.02.04
URL:https://tempo.dam-online.de/veranstaltung/archiv-leicht-weit-i-light-structures/
LOCATION:Deutsches Architekturmuseum (DAM)\, Schaumainkai 43\, Frankfurt / M.\, Hessen\, D-60596
CATEGORIES:Ausstellung
ORGANIZER;CN="DAM-Deutsches-Architekturmuseum":MAILTO:info.dam@stadt-frankfurt.de
END:VEVENT
BEGIN:VEVENT
DTSTART;TZID=Europe/Berlin:20031122T000000
DTEND;TZID=Europe/Berlin:20040208T000000
DTSTAMP:20260424T102305
CREATED:20031216T181504Z
LAST-MODIFIED:20211208T131207Z
UID:10048891-1069459200-1076198400@tempo.dam-online.de
SUMMARY:LEICHT WEIT Light Structures. Jörg Schlaich Rudolf Bergermann
DESCRIPTION:22.11.2003 – 08.02.2004 \nMit dieser Ausstellung widmet sich das DAM ein weiteres Mal einem ökologischen und konstruktiven Thema. Die beiden Ingenieure Jörg Schlaich und Rudolf Bergermann gehören seit 35 Jahren zu den Protagonisten der nationalen wie internationalen Architektur. Sie setzen als Tragwerksplaner nicht nur in Zusammenarbeit mit großen Architekten Maßstäbe\, sondern auch als Entwickler eigener Bauten. Ihre Türme\, Brücken und Gebäude zur Energiegewinnung sind außerordentliche Beispiele einer gelungenen Verbindung technischer\, ökonomischer\, ästhetischer und funktionaler Kriterien. \nEs ist die erste monographische Ausstellung über die Arbeiten dieser visionären Planer\, die stets eine enge Verbindung zwischen Praxis und Forschung pflegen. Es dürfte darüber hinaus wohl auch die erste monographische Ausstellung über zwei deutsche Bauingenieure sein.
URL:https://tempo.dam-online.de/veranstaltung/archiv-leicht-weit-light-structures-jorg-schlaich-rudolf-bergermann/
LOCATION:Deutsches Architekturmuseum (DAM)\, Schaumainkai 43\, Frankfurt / M.\, Hessen\, D-60596
CATEGORIES:Ausstellung
ORGANIZER;CN="DAM-Deutsches-Architekturmuseum":MAILTO:info.dam@stadt-frankfurt.de
END:VEVENT
BEGIN:VEVENT
DTSTART;TZID=Europe/Berlin:20031126T000000
DTEND;TZID=Europe/Berlin:20040104T000000
DTSTAMP:20260424T102305
CREATED:20031129T083609Z
LAST-MODIFIED:20211208T131205Z
UID:10048889-1069804800-1073174400@tempo.dam-online.de
SUMMARY:ACHTUNG: BAUgeSTELLE. Fotos von Uwe Lohrer
DESCRIPTION:Ausstellung in der Aktuellen Galerie von 26. November 2003 bis 4. Januar 2004 \n„Achtung Baugestelle“ suggeriert das Deutsche Architektur Museum alle sechs Wochen mit seinen gelb-schwarzen Einladungskarten. Sie bitten zum Besuch von Gebäuden in Frankfurt\, die kurz vor der Fertigstellung stehen und das städtische Publikum neugierig machen. \nDiese Baustellen sind\, solange es sie gibt\, von Zäunen umgebenes Niemandsland in der Stadt. Kein Bewohner Frankfurts weiß – gewöhnlich über Jahre – genau\, was dort entsteht. Neugierig wird man spätestens dann\, wenn ein Bau langsam an Höhe gewinnt und den Bauzaun zu überragen beginnt. Fällt der Zaun nimmt ein weiterer Neubau seinen Platz im urbanen Gefüge der Stadt ein. Baugestelle verbergen in der Regel keine Neubauten\, sondern Gebäude\, die restauriert oder renoviert werden – Kirchtürme\, Bahnhöfe oder andere bedeutende Häuser. \nVerhüllungen durch Baupläne oder Verfremdungen durch Baugestelle schaffen eine eigene Struktur auf Zeit. Gerüste\, Gebäudeverhüllungen und Baugestelle verhelfen den Betrachtern zu ungewohnten Perspektiven. Sie korrigieren die detaillierte Erinnerung an das\, was sich unter der Plane verbirgt. Sie spielen mit dem Christo Effekt: fällt die Hülle oder das Baugestell\, erscheint das von früher scheinbar Bekannte ganz neu\, ganz anders. \nBaugestelle und Verhüllungen haben ihre eigene Ästhetik und ihren eigenen Reiz. Die Fotografien von Uwe Lohrer\, die das DAM in der Aktuellen Galerie ausstellt\, machen dies deutlich. Manchmal weiß der Beschauer nicht\, was er schöner und eigenartiger finden soll\, das Provisorium oder das unter der Verhüllung gelegene eigentliche Gebäude. Manchmal ist das Versprechen der Gerüste einfach die interessantere Realität.
URL:https://tempo.dam-online.de/veranstaltung/archiv-achtung-baugestelle-fotos-von-uwe-lohrer/
LOCATION:Deutsches Architekturmuseum (DAM)\, Schaumainkai 43\, Frankfurt / M.\, Hessen\, D-60596
CATEGORIES:Ausstellung
ORGANIZER;CN="DAM-Deutsches-Architekturmuseum":MAILTO:info.dam@stadt-frankfurt.de
END:VEVENT
END:VCALENDAR