BEGIN:VCALENDAR
VERSION:2.0
PRODID:-//DAM Online - ECPv6.15.20//NONSGML v1.0//EN
CALSCALE:GREGORIAN
METHOD:PUBLISH
X-WR-CALNAME:DAM Online
X-ORIGINAL-URL:https://tempo.dam-online.de/en/
X-WR-CALDESC:Events for DAM Online
REFRESH-INTERVAL;VALUE=DURATION:PT1H
X-Robots-Tag:noindex
X-PUBLISHED-TTL:PT1H
BEGIN:VTIMEZONE
TZID:UTC
BEGIN:STANDARD
TZOFFSETFROM:+0000
TZOFFSETTO:+0000
TZNAME:UTC
DTSTART:20210101T000000
END:STANDARD
END:VTIMEZONE
BEGIN:VEVENT
DTSTART;TZID=UTC:20220927T090000
DTEND;TZID=UTC:20220930T150000
DTSTAMP:20260424T231922
CREATED:20220802T080604Z
LAST-MODIFIED:20220802T080604Z
UID:10048939-1664269200-1664550000@tempo.dam-online.de
SUMMARY:PROJEKTWOCHE: Demokratie bauen
DESCRIPTION:PROJEKTWOCHE: Demokratie bauen\nab 8. Klasse (IGS\, Haupt- oder Realschulzweig)\nDi\, 27. – Fr\, 30. September\, 9 – 15 Uhr\nDAM Ostend (Henschelstraße 18\, 60314 Frankfurt)\n \nDemokratie ermöglicht und verlangt aktive Teilhabe. Vor allem auf kommunaler Ebene gibt es zahlreiche Möglichkeiten zur Mitbestimmung\, derer sich viele aber nicht gewahr sind. „Demokratie bauen“ beschäftigt sich mit demokratischen Prozessen in Bezug auf die lokale\, gebaute Umwelt\, denn die betrifft alle! Anhand des eigenen Umfeldes werden demokratische Prozesse erfahrbar gemacht. Durch Workshop\, Interviews\, Exkursionen und Experimenten arbeiten die Jugendlichen konkret und praxisorientiert mit demokratischer Mitbestimmung. Die Ergebnisse werden im Rahmen einer Werkschau zu sehen sein. \nWerkschau: EinLaden (Berlinerstraße 32\, 60311 Frankfurt)\n30. September – 09. Oktober \nAnmeldung unter:      Demokratie bauen | bpb.de oder direkt per E-Mail an: vermittlung@politikimfreientheater.de \nDie Projektwoche wird von der Bundeszentrale für politische Bildung gefördert und findet im Rahmen des Festivals „Politik im freien Theater“ 2022 in Frankfurt am Main statt.
URL:https://tempo.dam-online.de/en/veranstaltung/projektwoche-demokratie-bauen/
LOCATION:DAM Ostend
CATEGORIES:Schule & Kita,Veranstaltung,Vermittlung
ATTACH;FMTTYPE=image/jpeg:https://tempo.dam-online.de/wp-content/uploads/2022/08/E-Roller_Lemrich_Studio©KienHoangLe-scaled.jpg
END:VEVENT
END:VCALENDAR