BEGIN:VCALENDAR
VERSION:2.0
PRODID:-//DAM Online - ECPv6.15.20//NONSGML v1.0//EN
CALSCALE:GREGORIAN
METHOD:PUBLISH
X-ORIGINAL-URL:https://tempo.dam-online.de
X-WR-CALDESC:Veranstaltungen für DAM Online
REFRESH-INTERVAL;VALUE=DURATION:PT1H
X-Robots-Tag:noindex
X-PUBLISHED-TTL:PT1H
BEGIN:VTIMEZONE
TZID:Europe/Berlin
BEGIN:DAYLIGHT
TZOFFSETFROM:+0100
TZOFFSETTO:+0200
TZNAME:CEST
DTSTART:20210328T010000
END:DAYLIGHT
BEGIN:STANDARD
TZOFFSETFROM:+0200
TZOFFSETTO:+0100
TZNAME:CET
DTSTART:20211031T010000
END:STANDARD
BEGIN:DAYLIGHT
TZOFFSETFROM:+0100
TZOFFSETTO:+0200
TZNAME:CEST
DTSTART:20220327T010000
END:DAYLIGHT
BEGIN:STANDARD
TZOFFSETFROM:+0200
TZOFFSETTO:+0100
TZNAME:CET
DTSTART:20221030T010000
END:STANDARD
BEGIN:DAYLIGHT
TZOFFSETFROM:+0100
TZOFFSETTO:+0200
TZNAME:CEST
DTSTART:20230326T010000
END:DAYLIGHT
BEGIN:STANDARD
TZOFFSETFROM:+0200
TZOFFSETTO:+0100
TZNAME:CET
DTSTART:20231029T010000
END:STANDARD
END:VTIMEZONE
BEGIN:VEVENT
DTSTART;TZID=Europe/Berlin:20221013T170000
DTEND;TZID=Europe/Berlin:20221013T170000
DTSTAMP:20260424T161647
CREATED:20220901T130153Z
LAST-MODIFIED:20260112T125210Z
UID:10049833-1665680400-1665680400@tempo.dam-online.de
SUMMARY:Die (un)Sichtbare Hauptwache – Wahrnehmungen jenseits des Sehens
DESCRIPTION:13. Oktober 2022\, 17 – 18:30 Uhr\nDie (un)Sichtbare Hauptwache mit Lilian Korner\nTreffpunkt: Sankt Katharinenkirche \nDie Verbesserung des Aussehens der Hauptwache ist in aller Munde – Dabei stellt das Sehen nur einen unserer Sinne dar. Blinde Menschen oder Menschen mit Beeinträchtigungen erfassen die Stadt und damit auch die Hauptwache aus anderen Perspektiven und mit anderen Sinnen. Zusammen mit dem sehbeeinträchtigten Inklusionsaktivisten und Philosophen Lilian Korner soll der Workshop „Die (un)Sichtbare Hauptwache“ für eine vielfältige Erfahrungsweise von Stadtraum sensibilisieren. Neben dem Kennenlernen eigener Wahrnehmungsfähigkeiten\, wird gemeinsam über die Frage diskutiert\, was Inklusion in (Stadt)Architektur und Gesellschaft benötigt und bedeutet. Alle sind herzlich eingeladen.
URL:https://tempo.dam-online.de/veranstaltung/unsichtbare-hauptwache/
LOCATION:St. Katharinenkirche\, An der Hauptwache 1\, Frankfurt am Main\, Deutschland
CATEGORIES:Veranstaltung
ATTACH;FMTTYPE=image/jpeg:https://tempo.dam-online.de/wp-content/uploads/2022/08/WH_Webkachel_04.jpg
ORGANIZER;CN="Deutsches Architekturmuseum (DAM)":MAILTO:info.dam@stadt-frankfurt.de
END:VEVENT
END:VCALENDAR