BEGIN:VCALENDAR
VERSION:2.0
PRODID:-//DAM Online - ECPv6.15.20//NONSGML v1.0//EN
CALSCALE:GREGORIAN
METHOD:PUBLISH
X-ORIGINAL-URL:https://tempo.dam-online.de
X-WR-CALDESC:Veranstaltungen für DAM Online
REFRESH-INTERVAL;VALUE=DURATION:PT1H
X-Robots-Tag:noindex
X-PUBLISHED-TTL:PT1H
BEGIN:VTIMEZONE
TZID:Europe/Berlin
BEGIN:DAYLIGHT
TZOFFSETFROM:+0100
TZOFFSETTO:+0200
TZNAME:CEST
DTSTART:20200329T010000
END:DAYLIGHT
BEGIN:STANDARD
TZOFFSETFROM:+0200
TZOFFSETTO:+0100
TZNAME:CET
DTSTART:20201025T010000
END:STANDARD
BEGIN:DAYLIGHT
TZOFFSETFROM:+0100
TZOFFSETTO:+0200
TZNAME:CEST
DTSTART:20210328T010000
END:DAYLIGHT
BEGIN:STANDARD
TZOFFSETFROM:+0200
TZOFFSETTO:+0100
TZNAME:CET
DTSTART:20211031T010000
END:STANDARD
BEGIN:DAYLIGHT
TZOFFSETFROM:+0100
TZOFFSETTO:+0200
TZNAME:CEST
DTSTART:20220327T010000
END:DAYLIGHT
BEGIN:STANDARD
TZOFFSETFROM:+0200
TZOFFSETTO:+0100
TZNAME:CET
DTSTART:20221030T010000
END:STANDARD
END:VTIMEZONE
BEGIN:VEVENT
DTSTART;TZID=Europe/Berlin:20210719T180000
DTEND;TZID=Europe/Berlin:20210719T200000
DTSTAMP:20260424T182146
CREATED:20210628T125751Z
LAST-MODIFIED:20210719T100204Z
UID:10049569-1626717600-1626724800@tempo.dam-online.de
SUMMARY:Urban Green #2: GRÜN WERDEN - Neue Häuser und Viertel
DESCRIPTION:WIE KÖNNEN NEUBAUTEN UND GRÜN ZUSAMMEN GEPLANT WERDEN? \nNeue Parks und Plätze\, grüne Fassaden und einladende Terrassen — Städte sollen grün und lebenswerter werden. Wenn da nicht auch noch ein paar neue Wohnungen\, das eine oder andere Geschäft und Straßen als nicht verzichtbare Lebensadern der Großstadt wären. Wie trotzdem alles zusammenpasst\, was da und dort zu tun wäre\, wohin mit welchem Grün und wie das Ganze aussehen könnte — Das sind die Themen für Urban_Green\, die Gesprächsreihe zum Mitreden mit den Ideen und Gästen im Grünen und im Draußen … \nMontag\, 19. Juli 2021\, 18 Uhr\nGRÜN WERDEN: Neue Häuser und Viertel\nKunstverein Montez\nHonsellstraße 7\n60314 Frankfurt am Main (Ostend) \nRedner:innen:\nAnton Brokow-Loga\, Bauhaus-Universität Weimar\, Urban Studies & Social Research\nFelix Nowak\, bb22 architekten+stadtplaner\, Frankfurt \nModeration:\nAndrea Jürges\, Deutsches Architekturmuseum \nEine Kooperation zwischen dem DAM\, dem Historischen Museum Frankfurt\, dem Heussenstamm. Raum für Kunst und Stadt und Urban shorts – Das Metropole Magazin. \nFoto: Sant en Co
URL:https://tempo.dam-online.de/veranstaltung/urban-green-drinnen-im-gruenen-21-06-21-2/
LOCATION:Kunstverein Montez\, Honsellstraße 7\, Frankfurt am Main\, Hessen\, 60314\, Deutschland
CATEGORIES:Veranstaltung
ATTACH;FMTTYPE=image/jpeg:https://tempo.dam-online.de/wp-content/uploads/2021/07/Urban-Green2_Visual_quer-scaled.jpg
END:VEVENT
END:VCALENDAR