BEGIN:VCALENDAR
VERSION:2.0
PRODID:-//DAM Online - ECPv6.15.20//NONSGML v1.0//EN
CALSCALE:GREGORIAN
METHOD:PUBLISH
X-WR-CALNAME:DAM Online
X-ORIGINAL-URL:https://tempo.dam-online.de
X-WR-CALDESC:Veranstaltungen für DAM Online
REFRESH-INTERVAL;VALUE=DURATION:PT1H
X-Robots-Tag:noindex
X-PUBLISHED-TTL:PT1H
BEGIN:VTIMEZONE
TZID:Europe/Berlin
BEGIN:DAYLIGHT
TZOFFSETFROM:+0100
TZOFFSETTO:+0200
TZNAME:CEST
DTSTART:20200329T010000
END:DAYLIGHT
BEGIN:STANDARD
TZOFFSETFROM:+0200
TZOFFSETTO:+0100
TZNAME:CET
DTSTART:20201025T010000
END:STANDARD
BEGIN:DAYLIGHT
TZOFFSETFROM:+0100
TZOFFSETTO:+0200
TZNAME:CEST
DTSTART:20210328T010000
END:DAYLIGHT
BEGIN:STANDARD
TZOFFSETFROM:+0200
TZOFFSETTO:+0100
TZNAME:CET
DTSTART:20211031T010000
END:STANDARD
BEGIN:DAYLIGHT
TZOFFSETFROM:+0100
TZOFFSETTO:+0200
TZNAME:CEST
DTSTART:20220327T010000
END:DAYLIGHT
BEGIN:STANDARD
TZOFFSETFROM:+0200
TZOFFSETTO:+0100
TZNAME:CET
DTSTART:20221030T010000
END:STANDARD
END:VTIMEZONE
BEGIN:VEVENT
DTSTART;VALUE=DATE:20210504
DTEND;VALUE=DATE:20220101
DTSTAMP:20260424T163228
CREATED:20210510T083850Z
LAST-MODIFIED:20211119T094536Z
UID:10049540-1620086400-1640995199@tempo.dam-online.de
SUMMARY:DAM On Tour in der Türkei: Kadin Mimar / Frauen im Architektenberuf in der Türkei und in Deutschland
DESCRIPTION:Frauen wohnen\, Männer bauen\, das war die Auffassung zu Beginn des 20. Jahrhunderts. Obwohl die Frauen sich damals vor rund 100 Jahren das Recht auf ein Architekturstudium erstritten\, seitdem erfolgreich in diesem Beruf sind und Maßstäbe setzen\, gilt er doch bis heute immer noch als Männerdomäne in Deutschland wie in der Türkei. \nMit der Ausstellung Kadın Mimar (Architektin) will das Goethe-Institut in der Türkei 18 Architektinnen aus beiden Ländern vorstellen\, die Diskussion eröffnen und Fachleute ins Gespräch bringen. Im Fokus stehen dabei Frauen\, die Architektur geprägt haben oder gegenwärtig mit ihrer Arbeit wichtige Akzente setzen. \n„Ob die Zukunft wirklich weiblich ist\, muss sich noch zeigen: Zwar sind inzwischen weit mehr als die Hälfte aller Studierenden an den Architekturfakultäten Frauen\, aber längst nicht alle kommen auch wirklich im Beruf an und die wenigsten scha­ffen den Sprung in die erste Reihe …“  so heißt es beim DAM\, dem Deutschen Architektur Museum in Frankfurt a.M.\, das mit seiner Ausstellung FRAU ARCHITEKT Seit mehr als 100 Jahren: Frauen im Architektenberuf  2017 den Berufsstand und die Geschichte weiblicher Architektur mit Nachdruck in die öffentliche Aufmerksamkeit brachte. Kadın Mimar zeigt eine Auswahl dieser Frankfurter Ausstellung und erweitert sie durch den Blick in die Türkei. \nWeitere Informationen:\nKadın Mimar – Frauen im Architektenberuf in der Türkei und in Deutschland – Goethe-Institut Türkei
URL:https://tempo.dam-online.de/veranstaltung/dam-on-tour-in-der-tuerkei-kadin-mimar-frauen-im-architektenberuf-in-der-tuerkei-und-in-deutschland/
LOCATION:Goethe-Institut Ankara\, Atatürk Bulvarı No: 131\, Bakanlıklar-Ankara
CATEGORIES:Veranstaltung
ATTACH;FMTTYPE=image/jpeg:https://tempo.dam-online.de/wp-content/uploads/2021/05/Frau-Architekt.jpg
END:VEVENT
END:VCALENDAR