BEGIN:VCALENDAR
VERSION:2.0
PRODID:-//DAM Online - ECPv6.15.20//NONSGML v1.0//EN
CALSCALE:GREGORIAN
METHOD:PUBLISH
X-ORIGINAL-URL:https://tempo.dam-online.de
X-WR-CALDESC:Veranstaltungen für DAM Online
REFRESH-INTERVAL;VALUE=DURATION:PT1H
X-Robots-Tag:noindex
X-PUBLISHED-TTL:PT1H
BEGIN:VTIMEZONE
TZID:Europe/Berlin
BEGIN:DAYLIGHT
TZOFFSETFROM:+0100
TZOFFSETTO:+0200
TZNAME:CEST
DTSTART:20200329T010000
END:DAYLIGHT
BEGIN:STANDARD
TZOFFSETFROM:+0200
TZOFFSETTO:+0100
TZNAME:CET
DTSTART:20201025T010000
END:STANDARD
BEGIN:DAYLIGHT
TZOFFSETFROM:+0100
TZOFFSETTO:+0200
TZNAME:CEST
DTSTART:20210328T010000
END:DAYLIGHT
BEGIN:STANDARD
TZOFFSETFROM:+0200
TZOFFSETTO:+0100
TZNAME:CET
DTSTART:20211031T010000
END:STANDARD
BEGIN:DAYLIGHT
TZOFFSETFROM:+0100
TZOFFSETTO:+0200
TZNAME:CEST
DTSTART:20220327T010000
END:DAYLIGHT
BEGIN:STANDARD
TZOFFSETFROM:+0200
TZOFFSETTO:+0100
TZNAME:CET
DTSTART:20221030T010000
END:STANDARD
BEGIN:DAYLIGHT
TZOFFSETFROM:+0100
TZOFFSETTO:+0200
TZNAME:CEST
DTSTART:20230326T010000
END:DAYLIGHT
BEGIN:STANDARD
TZOFFSETFROM:+0200
TZOFFSETTO:+0100
TZNAME:CET
DTSTART:20231029T010000
END:STANDARD
BEGIN:DAYLIGHT
TZOFFSETFROM:+0100
TZOFFSETTO:+0200
TZNAME:CEST
DTSTART:20240331T010000
END:DAYLIGHT
BEGIN:STANDARD
TZOFFSETFROM:+0200
TZOFFSETTO:+0100
TZNAME:CET
DTSTART:20241027T010000
END:STANDARD
BEGIN:DAYLIGHT
TZOFFSETFROM:+0100
TZOFFSETTO:+0200
TZNAME:CEST
DTSTART:20250330T010000
END:DAYLIGHT
BEGIN:STANDARD
TZOFFSETFROM:+0200
TZOFFSETTO:+0100
TZNAME:CET
DTSTART:20251026T010000
END:STANDARD
BEGIN:DAYLIGHT
TZOFFSETFROM:+0100
TZOFFSETTO:+0200
TZNAME:CEST
DTSTART:20260329T010000
END:DAYLIGHT
BEGIN:STANDARD
TZOFFSETFROM:+0200
TZOFFSETTO:+0100
TZNAME:CET
DTSTART:20261025T010000
END:STANDARD
BEGIN:DAYLIGHT
TZOFFSETFROM:+0100
TZOFFSETTO:+0200
TZNAME:CEST
DTSTART:20270328T010000
END:DAYLIGHT
BEGIN:STANDARD
TZOFFSETFROM:+0200
TZOFFSETTO:+0100
TZNAME:CET
DTSTART:20271031T010000
END:STANDARD
BEGIN:DAYLIGHT
TZOFFSETFROM:+0100
TZOFFSETTO:+0200
TZNAME:CEST
DTSTART:20280326T010000
END:DAYLIGHT
BEGIN:STANDARD
TZOFFSETFROM:+0200
TZOFFSETTO:+0100
TZNAME:CET
DTSTART:20281029T010000
END:STANDARD
BEGIN:DAYLIGHT
TZOFFSETFROM:+0100
TZOFFSETTO:+0200
TZNAME:CEST
DTSTART:20290325T010000
END:DAYLIGHT
BEGIN:STANDARD
TZOFFSETFROM:+0200
TZOFFSETTO:+0100
TZNAME:CET
DTSTART:20291028T010000
END:STANDARD
BEGIN:DAYLIGHT
TZOFFSETFROM:+0100
TZOFFSETTO:+0200
TZNAME:CEST
DTSTART:20300331T010000
END:DAYLIGHT
BEGIN:STANDARD
TZOFFSETFROM:+0200
TZOFFSETTO:+0100
TZNAME:CET
DTSTART:20301027T010000
END:STANDARD
BEGIN:DAYLIGHT
TZOFFSETFROM:+0100
TZOFFSETTO:+0200
TZNAME:CEST
DTSTART:20310330T010000
END:DAYLIGHT
BEGIN:STANDARD
TZOFFSETFROM:+0200
TZOFFSETTO:+0100
TZNAME:CET
DTSTART:20311026T010000
END:STANDARD
END:VTIMEZONE
BEGIN:VEVENT
DTSTART;VALUE=DATE:20210808
DTEND;VALUE=DATE:20310101
DTSTAMP:20260424T063059
CREATED:20210706T112957Z
LAST-MODIFIED:20251118T142442Z
UID:10048736-1628380800-1924991999@tempo.dam-online.de
SUMMARY:DAM On Tour in Bad Aibling: Die Neue Heimat (1950-1982)
DESCRIPTION:Die Neue Heimat war der größte und bedeutendste nicht-staatliche Wohnungsbaukonzern im Europa der Nachkriegszeit. In einem Zeitraum von über dreißig Jahren hat das Gewerkschaftsunternehmen mehr als 400.000 Wohnungen geplant und ausgeführt. Die Projekte der Neuen Heimat sind sowohl Ergebnis eines einzigartigen Zusammenspiels von wirtschaftlichen Interessen und Politik\, als auch Ausdruck und Spiegelbild der bundesdeutschen Sozialgeschichte. Der skandalträchtige Zusammenbruch des Unternehmens Anfang der achtziger Jahre wirkte wie ein Schock auf die westdeutsche Bevölkerung und markierte das Ende einer Epoche.\nErstmals werden in einer Architekturausstellung die Bauten und Projekte der Neuen Heimat an herausragenden Beispielen analysiert und in historischen Fotograﬁen\, Filmproduktionen\, Planmaterialien und Originalmodellen präsentiert. \nEine Ausstellung in Kooperation mit dem Architekturmuseum der TUM und dem Hamburgischen Architekturarchiv.
URL:https://tempo.dam-online.de/veranstaltung/dam-on-tour-die-neue-heimat-1950-1982/
LOCATION:B & O Parkhotel\, Dietrich-Bonhoeffer-Straße 31\, Bad Aibling\, 83043
CATEGORIES:Veranstaltung
ATTACH;FMTTYPE=image/jpeg:https://tempo.dam-online.de/wp-content/uploads/2020/02/DAM_Die-Neue-Heimat_Entlastungsstadt_München-Neuperlach.jpg
END:VEVENT
BEGIN:VEVENT
DTSTART;VALUE=DATE:20230927
DTEND;VALUE=DATE:20310101
DTSTAMP:20260424T063059
CREATED:20231004T101141Z
LAST-MODIFIED:20251117T120955Z
UID:10050007-1695772800-1924991999@tempo.dam-online.de
SUMMARY:DAM on Tour in Bad Aibling: EINFACH GRÜN
DESCRIPTION:Die Wanderausstellung „Einfach Grün. Greening the City“ wurde für die Konferenzbereichen des B&O Parkhotel Bad Aibling als permanente Installation adaptiert und zeigt anhand vieler Beispiele die Vorteile und Herausforderungen begrünter Gebäude. \nKlapptafeln an den Wänden laden die Gäste des Hotels und Nutzer des Konferenzbereiches dazu ein\, auf spielerische Art Antworten auf häufig gestellte Fragen und Vorurteile zu erhalten. Großformatige Fotos zeigen gebaute Beispiele und erläutern die Historie begrünter Gebäude von der Antike bis heute. \nNach Stationen in Düsseldorf\, Mönchengladbach\, Salzburg und Hamburg wurde die Ausstellung um regionale Projekte aus dem Voralpenland erweitert und stellt die Bandbreite der Möglichkeiten vom Einfamilienhaus bis hin zum Wolkenkratzer dar. \nWeitere Infos zu EINFACH GRÜN im DAM \nhttps://www.einfach-gruen.jetzt/ \nParkhotel Bad Aibling
URL:https://tempo.dam-online.de/veranstaltung/dam-on-tour-in-bad-aibling-einfach-gruen/
LOCATION:B & O Parkhotel\, Dietrich-Bonhoeffer-Straße 31\, Bad Aibling\, 83043
CATEGORIES:Veranstaltung
ATTACH;FMTTYPE=image/jpeg:https://tempo.dam-online.de/wp-content/uploads/2021/02/DAM_EinfachGruen_CFP_Titelfoto_Foto_UrbanMediaProject.jpg
ORGANIZER;CN="Deutsches Architekturmuseum (DAM)":MAILTO:info.dam@stadt-frankfurt.de
END:VEVENT
END:VCALENDAR