BEGIN:VCALENDAR
VERSION:2.0
PRODID:-//DAM Online - ECPv6.15.20//NONSGML v1.0//EN
CALSCALE:GREGORIAN
METHOD:PUBLISH
X-ORIGINAL-URL:https://tempo.dam-online.de
X-WR-CALDESC:Veranstaltungen für DAM Online
REFRESH-INTERVAL;VALUE=DURATION:PT1H
X-Robots-Tag:noindex
X-PUBLISHED-TTL:PT1H
BEGIN:VTIMEZONE
TZID:Europe/Berlin
BEGIN:DAYLIGHT
TZOFFSETFROM:+0100
TZOFFSETTO:+0200
TZNAME:CEST
DTSTART:20240331T010000
END:DAYLIGHT
BEGIN:STANDARD
TZOFFSETFROM:+0200
TZOFFSETTO:+0100
TZNAME:CET
DTSTART:20241027T010000
END:STANDARD
BEGIN:DAYLIGHT
TZOFFSETFROM:+0100
TZOFFSETTO:+0200
TZNAME:CEST
DTSTART:20250330T010000
END:DAYLIGHT
BEGIN:STANDARD
TZOFFSETFROM:+0200
TZOFFSETTO:+0100
TZNAME:CET
DTSTART:20251026T010000
END:STANDARD
BEGIN:DAYLIGHT
TZOFFSETFROM:+0100
TZOFFSETTO:+0200
TZNAME:CEST
DTSTART:20260329T010000
END:DAYLIGHT
BEGIN:STANDARD
TZOFFSETFROM:+0200
TZOFFSETTO:+0100
TZNAME:CET
DTSTART:20261025T010000
END:STANDARD
END:VTIMEZONE
BEGIN:VEVENT
DTSTART;VALUE=DATE:20250829
DTEND;VALUE=DATE:20250831
DTSTAMP:20260424T075457
CREATED:20250701T094843Z
LAST-MODIFIED:20250714T100126Z
UID:10050284-1756425600-1756598399@tempo.dam-online.de
SUMMARY:EXKURSION: B&O Bau ForschungsQuartier\, Bad Aibling
DESCRIPTION:Florian Nagler Architekten\, Forschungshaus Bad Aibling\, Foto: Sebastian Schels; PK Odesa \nEXKURSION: B&O Bau ForschungsQuartier\, Bad Aibling\nFreitag\, 29. – Samstag 30. August 2025\nB&O Bau ForschungsQuartier\nDietrich-Bonhoeffer-Strasse 31\n83043 Bad Aibling \nMitglieder der Architekten- und Stadtplanerkammer Hessen (AKH) erhalten durch Teilnahme 3 Fortbildungspunkte. \nIndividuelle Anreise\nÜbernachtung im B&O Parkthotel \nKosten für Unterkunft und Führungen:\nEinzelzimmer 100 €\nDoppelzimmer 150 € \nAnmeldung: dam.energy@stadt-frankfurt.de \nAblauf \nFreitag\, 29. August: \nIndividuelle Anreise nach Bad Aibling \n13 Uhr Ankunft / Check-In \n14 – 18 Uhr Führung von Dr. Ernst Böhm \n19 Uhr Abendessen\nSamstag\, 30. August: \n10 Uhr Bustransfer nach München \n12 – 14.30 Uhr Fachführung Prinz-Eugen-Park \nMit freundlicher Unterstützung der B&O Bau GmbH
URL:https://tempo.dam-online.de/veranstaltung/exkursion-bo-bau-forschungsquartier-bad-aibling/
LOCATION:B & O Parkhotel\, Dietrich-Bonhoeffer-Straße 31\, Bad Aibling\, 83043
CATEGORIES:Erwachsene,Veranstaltung,Vermittlung
ATTACH;FMTTYPE=image/jpeg:https://tempo.dam-online.de/wp-content/uploads/2025/06/DAM_ArchitectureEnergy_ForschungshausBadAibling_FlorianNaglerArchitektenMuenchen_FlorianSchelsPKOdesa_web-scaled.jpg
END:VEVENT
END:VCALENDAR