BEGIN:VCALENDAR
VERSION:2.0
PRODID:-//DAM Online - ECPv6.15.20//NONSGML v1.0//EN
CALSCALE:GREGORIAN
METHOD:PUBLISH
X-WR-CALNAME:DAM Online
X-ORIGINAL-URL:https://tempo.dam-online.de
X-WR-CALDESC:Veranstaltungen für DAM Online
REFRESH-INTERVAL;VALUE=DURATION:PT1H
X-Robots-Tag:noindex
X-PUBLISHED-TTL:PT1H
BEGIN:VTIMEZONE
TZID:Europe/Berlin
BEGIN:DAYLIGHT
TZOFFSETFROM:+0100
TZOFFSETTO:+0200
TZNAME:CEST
DTSTART:20210328T010000
END:DAYLIGHT
BEGIN:STANDARD
TZOFFSETFROM:+0200
TZOFFSETTO:+0100
TZNAME:CET
DTSTART:20211031T010000
END:STANDARD
BEGIN:DAYLIGHT
TZOFFSETFROM:+0100
TZOFFSETTO:+0200
TZNAME:CEST
DTSTART:20220327T010000
END:DAYLIGHT
BEGIN:STANDARD
TZOFFSETFROM:+0200
TZOFFSETTO:+0100
TZNAME:CET
DTSTART:20221030T010000
END:STANDARD
BEGIN:DAYLIGHT
TZOFFSETFROM:+0100
TZOFFSETTO:+0200
TZNAME:CEST
DTSTART:20230326T010000
END:DAYLIGHT
BEGIN:STANDARD
TZOFFSETFROM:+0200
TZOFFSETTO:+0100
TZNAME:CET
DTSTART:20231029T010000
END:STANDARD
END:VTIMEZONE
BEGIN:VEVENT
DTSTART;VALUE=DATE:20220317
DTEND;VALUE=DATE:20220423
DTSTAMP:20260426T054659
CREATED:20220322T121051Z
LAST-MODIFIED:20220914T074520Z
UID:10048879-1647475200-1650671999@tempo.dam-online.de
SUMMARY:DAM On Tour in Salzburg: Einfach Grün
DESCRIPTION:EINFACH GRÜN. Greening the City\n17. März – 22. April 2022\nArchitekturhaus Salzburg\nSinnhubstraße 3\n35020 Salzburg\n\n \nVor allem in Städten fehlt vielen Menschen die Möglichkeit\, in unmittelbarer Nähe aus der häuslichen Enge ins Grüne zu gelangen. Zudem sind wir immer stärker mit den Folgen des Klimawandels\, insbesondere der Überhitzung (heat island effect)\, aber auch der Feinstaubbelastung konfrontiert. \nDie Begrünung der horizontalen und vertikalen Gebäudehülle ist eine Möglichkeit\, über die boden-gebundenen Grünflächen hinaus\, die vorhandene Stadtlandschaft zu reparieren. Den kursierenden Vorurteilen wie hohe Herstellungs- und Pflegekosten stehen relativierende\, in Zahlen nachweisbare positive Auswirkungen gegenüber: So wirken begrünte Dächer und Fassaden auf das Gebäude selbst wie auch auf die unmittelbare Umgebung. Grünräume sind nicht als Kosten\, sondern als Wertfaktor für die Gesundheit von Mensch\, Stadt und Umwelt zu begreifen. \nDie Ausstellung „Einfach Grün. Greening the City“ des Deutschen Architekturmuseums Frankfurt wurde für Salzburg adaptiert. Sie sammelt Ressentiments gegen und Argumente für die Begrünung der Gebäudehülle und liefert über wissenschaftliche Ergebnisse hinaus praxisorientierte Hinweise zur Begrünung von Bestandsgebäuden oder Neubauten. Sie versteht sich als Aufruf und zeigt konkrete Beispiele der Förderung von Initiativen und des Engagements der Politik für infrastrukturelles Grün. \nEine Ausstellung des Deutschen Architekturmuseums DAM\, Frankfurt am Main. Die Kuratoren der Ausstellung sind Hilde Strobl und Rudi Scheuermann.\nEine Kooperation der Initiative Architektur mit Land Salzburg – Klima + Energie 2050.
URL:https://tempo.dam-online.de/veranstaltung/dam-on-tour-in-salzburg-einfach-gruen/
LOCATION:Architekturhaus Salzburg\, Sinnhubstraße 3\, Salzburg\, 35020
CATEGORIES:Veranstaltung
ATTACH;FMTTYPE=image/jpeg:https://tempo.dam-online.de/wp-content/uploads/2021/01/DAM_EinfachGruen_Ausstellung_Foto_MoritzBernoully_014_Mini.jpg
END:VEVENT
END:VCALENDAR