BEGIN:VCALENDAR
VERSION:2.0
PRODID:-//DAM Online - ECPv6.15.20//NONSGML v1.0//EN
CALSCALE:GREGORIAN
METHOD:PUBLISH
X-ORIGINAL-URL:https://tempo.dam-online.de
X-WR-CALDESC:Veranstaltungen für DAM Online
REFRESH-INTERVAL;VALUE=DURATION:PT1H
X-Robots-Tag:noindex
X-PUBLISHED-TTL:PT1H
BEGIN:VTIMEZONE
TZID:Europe/Berlin
BEGIN:DAYLIGHT
TZOFFSETFROM:+0100
TZOFFSETTO:+0200
TZNAME:CEST
DTSTART:20190331T010000
END:DAYLIGHT
BEGIN:STANDARD
TZOFFSETFROM:+0200
TZOFFSETTO:+0100
TZNAME:CET
DTSTART:20191027T010000
END:STANDARD
BEGIN:DAYLIGHT
TZOFFSETFROM:+0100
TZOFFSETTO:+0200
TZNAME:CEST
DTSTART:20200329T010000
END:DAYLIGHT
BEGIN:STANDARD
TZOFFSETFROM:+0200
TZOFFSETTO:+0100
TZNAME:CET
DTSTART:20201025T010000
END:STANDARD
BEGIN:DAYLIGHT
TZOFFSETFROM:+0100
TZOFFSETTO:+0200
TZNAME:CEST
DTSTART:20210328T010000
END:DAYLIGHT
BEGIN:STANDARD
TZOFFSETFROM:+0200
TZOFFSETTO:+0100
TZNAME:CET
DTSTART:20211031T010000
END:STANDARD
END:VTIMEZONE
BEGIN:VEVENT
DTSTART;TZID=Europe/Berlin:20201003T140000
DTEND;TZID=Europe/Berlin:20201003T163000
DTSTAMP:20260424T120845
CREATED:20200214T095526Z
LAST-MODIFIED:20200615T141315Z
UID:10048494-1601733600-1601742600@tempo.dam-online.de
SUMMARY:Ungeliebte Moderne? Die Nordweststadt
DESCRIPTION:Ungeliebte Moderne? Die Nordweststadt\nVorgestellt werden Bauten und Siedlungen der 1960er und 1970er Jahre\, die meist keinen guten Ruf besitzen\, jenseits aller Vorurteile und Vorbehalte aber viele Qualitäten aufweisen. \nGroßzügiges Grün mit lockerer Bebauung aus Wohnblocks und Einfamilienhäusern\, ein 5000 qm großer Teich\, Frankfurts erster Abenteuerspielplatz\, ein 30 km langes Fußgängerwegenetz\, hervorragende Anbindung an den öffentlichen Nahverkehr und ein Einkaufzentrum\, das Shoppingbegeisterte aus der ganzen Region anzieht. Wo wir uns befinden? In der Nordweststadt! Erdacht für 25000 Bewohner und vor 50 Jahren fertiggestellt nach den Entwürfen der Architekten Walter Schwagenscheidt und Tassilo Sittmann. Erfahren Sie mit uns mehr über Idee\, Planung und Bau des Trabanten und wie es sich hier lebt lässt. \nSa\, 3. Oktober 2020\, 14 Uhr\nTreffpunkt:  U-Bahn-Station „Römerstadt“ \ Ausgang\n„Hadrianstraße“ \ unter der Brücke\n€ 15\nDie Teilnehmerzahl ist auf 30 Personen begrenzt.\n \nWeitere Infos und Anmeldung unter: www.frankfurt-university.de/nachkriegsmoderne
URL:https://tempo.dam-online.de/veranstaltung/ungeliebte-moderne-die-nordweststadt/
LOCATION:Schaumainkai 43\, Frankfurt / M.\, Hessen\, D-60596\, Deutschland
CATEGORIES:Veranstaltung
ATTACH;FMTTYPE=image/jpeg:https://tempo.dam-online.de/wp-content/uploads/2020/02/DAM_Die-Neue-Heimat_Eigenheime_Frankfurt_Nordweststadt_Beitragsbild3-scaled.jpg
END:VEVENT
BEGIN:VEVENT
DTSTART;TZID=Europe/Berlin:20200926T140000
DTEND;TZID=Europe/Berlin:20200926T163000
DTSTAMP:20260424T120845
CREATED:20200214T102019Z
LAST-MODIFIED:20200615T140413Z
UID:10048498-1601128800-1601137800@tempo.dam-online.de
SUMMARY:Ungeliebte Moderne? Der Ben-Gurion-Ring
DESCRIPTION:Ungeliebte Moderne? Der Ben-Gurion-Ring\nVorgestellt werden Bauten und Siedlungen der 1960er und 1970er Jahre\, die meist keinen guten Ruf besitzen\, jenseits aller Vorurteile und Vorbehalte aber viele Qualitäten aufweisen. Eine Kooperation mit dem Forschungslabor Nachkriegsmoderne und kunstkontakt. \nUnser Weg führt uns zu den „Golanhöhen“ mitten im Frankfurter Norden! Benannt nach dem israelischen Staatsmann Ben Gurion\, bekam die Siedlung ihren Spitznamen durch das schlechte Image\, das mit ihr von Anfang an verbunden war. Verrufen ist sie allerdings eher bei denjenigen\, die dort nicht leben. Viele Bewohner schätzen das Quartier mit den ca. 80 Wohngebäuden\, den ausgedehnten Rasenflächen mit See\, guten Verkehrsanbindungen und Ladenpassage. Wir erzählen Wissenswertes aus der Entstehungszeit\, über Wohn- und Lebensbedingungen und zukünftige Planungen. \nSa\, 26. September 2020\, 14 Uhr\nTreffpunkt: U-Bahn-Station „Bonames Mitte“ / U2\n€ 15\nDie Teilnehmerzahl ist auf 30 Personen begrenzt.\n \nWeitere Infos und Anmeldung unter: www.frankfurt-university.de/nachkriegsmoderne
URL:https://tempo.dam-online.de/veranstaltung/ungeliebte-moderne-der-ben-gurion-ring/
LOCATION:Schaumainkai 43\, Frankfurt / M.\, Hessen\, D-60596\, Deutschland
CATEGORIES:Veranstaltung
ATTACH;FMTTYPE=image/jpeg:https://tempo.dam-online.de/wp-content/uploads/2020/02/DAM_Die-Neue-Heimat_Eigenheime_Frankfurt_Nordweststadt_Beitragsbild3-scaled.jpg
END:VEVENT
BEGIN:VEVENT
DTSTART;TZID=Europe/Berlin:20200919T140000
DTEND;TZID=Europe/Berlin:20200919T163000
DTSTAMP:20260424T120845
CREATED:20200214T100840Z
LAST-MODIFIED:20200615T135714Z
UID:10048496-1600524000-1600533000@tempo.dam-online.de
SUMMARY:Ungeliebte Moderne? Der Sonnenring
DESCRIPTION:Ungeliebte Moderne? Der Sonnenring\nVorgestellt werden Bauten und Siedlungen der 1960er und 1970er Jahre\, die meist keinen guten Ruf besitzen\, jenseits aller Vorurteile und Vorbehalte aber viele Qualitäten aufweisen. Eine Kooperation mit dem Forschungslabor Nachkriegsmoderne und kunstkontakt. \nGemeinsam mit den acht Hochhäusern des Sonnenhügels und dem Hotel „Leonardo Royal“ steht der Sonnenring\, gewölbt wie eine Parabel\, markant auf dem Sachsenhäuser Berg. Das Quartier machte immer wieder Schlagzeilen und war schließlich verbunden mit einem der spektakulärsten politischen Skandale der Nachkriegszeit. Entworfen von Günther Balser\, im Stil des Brutalismus\, sind die ca. 300 Wohnungen\, mit Gemeinschaftseinrichtungen wie Schwimmbad und Sauna\, heute sehr begehrt und mancher hat hier sein Traumdomizil gefunden. \nSa\, 19. September 2020\, 14 Uhr\nTreffpunkt: Haltestelle „Südfriedhof West“ \ Bus 30 oder 36\n€ 15\nDie Teilnehmerzahl ist auf 30 Personen begrenzt.\n \nWeitere Infos und Anmeldung unter: www.frankfurt-university.de/nachkriegsmoderne
URL:https://tempo.dam-online.de/veranstaltung/ungeliebte-moderne-der-sonnenring/
LOCATION:Schaumainkai 43\, Frankfurt / M.\, Hessen\, D-60596\, Deutschland
CATEGORIES:Veranstaltung
ATTACH;FMTTYPE=image/jpeg:https://tempo.dam-online.de/wp-content/uploads/2020/02/DAM_Die-Neue-Heimat_Eigenheime_Frankfurt_Nordweststadt_Beitragsbild3-scaled.jpg
END:VEVENT
BEGIN:VEVENT
DTSTART;TZID=Europe/Berlin:20200704T140000
DTEND;TZID=Europe/Berlin:20200704T163000
DTSTAMP:20260424T120845
CREATED:20200214T102525Z
LAST-MODIFIED:20200618T104048Z
UID:10048499-1593871200-1593880200@tempo.dam-online.de
SUMMARY:Ungeliebte Moderne? Kranichstein entdecken
DESCRIPTION:Ungeliebte Moderne? Kranichstein entdecken!\nVorgestellt werden Bauten und Siedlungen der 1960er und 1970er Jahre\, die meist keinen guten Ruf besitzen\, jenseits aller Vorurteile und Vorbehalte aber viele Qualitäten aufweisen.Führung durch die Siedlung und Grünflächen mit Brigitte Holz\, Laura Guthier (Freischlad + Holz) und Heribert Varelmann (langjähriger Sozialarbeiter in Kranichstein). \nHinweis: Die Veranstaltung ist bereits ausgebucht!  \nSa\, 4. Juli 2020\, 14 Uhr\nTreffpunkt: vor dem Jugendcafé „Chillmo“\, Bartningstraße 24\, 64289 Darmstadt\n€ 10 / € 5 ermäßigt\nDie Teilnehmerzahl ist auf 15 Personen begrenzt.\n \nWeitere Infos und Anmeldung unter: jonas.malzahn@stadt-frankfurt.de
URL:https://tempo.dam-online.de/veranstaltung/ungeliebte-moderne-kranichstein-entdecken/
LOCATION:Schaumainkai 43\, Frankfurt / M.\, Hessen\, D-60596\, Deutschland
CATEGORIES:Veranstaltung
ATTACH;FMTTYPE=image/jpeg:https://tempo.dam-online.de/wp-content/uploads/2020/03/DAM_Die-Neue-Heimat_Newsletter-Header.jpg
END:VEVENT
BEGIN:VEVENT
DTSTART;TZID=Europe/Berlin:20200530T110000
DTEND;TZID=Europe/Berlin:20200530T150000
DTSTAMP:20260424T120845
CREATED:20200214T092812Z
LAST-MODIFIED:20200421T153646Z
UID:10048493-1590836400-1590850800@tempo.dam-online.de
SUMMARY:Abgesagt! Radtour zu den wichtigsten Quartieren und Projekten aus 35 Jahren
DESCRIPTION:Radtour zu den wichtigsten Quartieren und Projekten aus 35 Jahren\nWir erkunden die städtischen Räume und Quartiere\, die das Gesicht der Stadt in den zurückliegenden 35 Jahren maßgeblich verändert haben: beiderseits des Mainufers zwischen Deutschherrnviertel und Westhafen\, das Europaviertel\, den Rebstockpark\, die City West sowie den zukünftigen KulturCampus in Bockenheim. \nSa\, 30. Mai 2020\, 11 Uhr\nStart am DAM\nDauer: ca. 4 Std.\, € 20 inkl. Museumseintritt \nWeitere Infos und Anmeldung unter: architour.de/tour-buchen/
URL:https://tempo.dam-online.de/veranstaltung/radtour-zu-den-wichtigsten-quartieren-und-projekten-aus-35jahren/
LOCATION:Schaumainkai 43\, Frankfurt / M.\, Hessen\, D-60596\, Deutschland
CATEGORIES:Veranstaltung
ATTACH;FMTTYPE=image/jpeg:https://tempo.dam-online.de/wp-content/uploads/2020/01/press-2019-neue-heimat-Siedlung-Kranichstein.jpg
END:VEVENT
BEGIN:VEVENT
DTSTART;TZID=Europe/Berlin:20200516T110000
DTEND;TZID=Europe/Berlin:20200516T150000
DTSTAMP:20260424T120845
CREATED:20200214T092106Z
LAST-MODIFIED:20200421T152737Z
UID:10048492-1589626800-1589641200@tempo.dam-online.de
SUMMARY:Abgesagt! Radtour im Rahmen des „Tags des Offenen Wohnprojekts"
DESCRIPTION:Radtour im Rahmen des „Tags des Offenen Wohnprojekts“\nSeit den 1980er Jahren gibt es sie schon: Gemeinschaftliche Wohnprojekte. Wie unterschiedlich Wohnprojekte sein können\, was sie neben der Schaffung bezahlbaren Wohnraums noch leisten und welche Funktion das Netzwerk für Gemeinschaftliches Wohnen hier in Frankfurt übernimmt\, erfahren Sie bei unserer Tour: Bei der Besich8gung von Wohnungen\, Dachterrassen\, Gärten und Baustellen wie auch in Gesprächen mit Bewohner*innen. \nSa\, 16. Mai 2020\, 11 Uhr\nStart am DAM\nDauer: ca. 4 Std.\, € 20 inkl. Museumseintritt \nWeitere Infos und Anmeldung unter: architour.de/tour-buchen/
URL:https://tempo.dam-online.de/veranstaltung/radtour-im-rahmen-des-tags-des-offenen-wohnprojekts/
LOCATION:Schaumainkai 43\, Frankfurt / M.\, Hessen\, D-60596\, Deutschland
CATEGORIES:Veranstaltung
ATTACH;FMTTYPE=image/jpeg:https://tempo.dam-online.de/wp-content/uploads/2020/01/press-2019-neue-heimat-Siedlung-Kranichstein.jpg
END:VEVENT
BEGIN:VEVENT
DTSTART;TZID=Europe/Berlin:20200502T110000
DTEND;TZID=Europe/Berlin:20200502T150000
DTSTAMP:20260424T120845
CREATED:20200214T091219Z
LAST-MODIFIED:20200416T133225Z
UID:10048489-1588417200-1588431600@tempo.dam-online.de
SUMMARY:ABGESAGT! Radtour zu Siedlungen aus der Zeit der Neuen Heimat
DESCRIPTION:Radtour zu Siedlungen aus der Zeit der Neuen Heimat\nWir widmen uns der Planungsgeschichte\, wie auch dem Bau und Umbau der Großwohnsiedlunge ihrer Zeit: der Nordweststadt\, der Siedlung Am Bügel/ Ben-Gurion-Ring in Nieder-Eschbach\, dem Frankfurter Berg sowie der Heinrich-Lüpke-Siedlung in Praunheim. \nSa\, 02. Mai 2020\, 11 Uhr\nStart am SAALBAU Titus-Forum in der Nordweststadt\nDauer: ca. 4 Std.\, € 20 inkl. Museumseintritt \nWeitere Infos und Anmeldung unter: architour.de/tour-buchen/ \n 
URL:https://tempo.dam-online.de/veranstaltung/radtour-zu-siedlungen-aus-der-zeit-der-neuen-heimat-2/
LOCATION:Schaumainkai 43\, Frankfurt / M.\, Hessen\, D-60596\, Deutschland
CATEGORIES:Veranstaltung
ATTACH;FMTTYPE=image/jpeg:https://tempo.dam-online.de/wp-content/uploads/2020/01/press-2019-neue-heimat-Siedlung-Kranichstein.jpg
END:VEVENT
END:VCALENDAR