BEGIN:VCALENDAR
VERSION:2.0
PRODID:-//DAM Online - ECPv6.15.20//NONSGML v1.0//EN
CALSCALE:GREGORIAN
METHOD:PUBLISH
X-ORIGINAL-URL:https://tempo.dam-online.de
X-WR-CALDESC:Veranstaltungen für DAM Online
REFRESH-INTERVAL;VALUE=DURATION:PT1H
X-Robots-Tag:noindex
X-PUBLISHED-TTL:PT1H
BEGIN:VTIMEZONE
TZID:Europe/Berlin
BEGIN:DAYLIGHT
TZOFFSETFROM:+0100
TZOFFSETTO:+0200
TZNAME:CEST
DTSTART:20230326T010000
END:DAYLIGHT
BEGIN:STANDARD
TZOFFSETFROM:+0200
TZOFFSETTO:+0100
TZNAME:CET
DTSTART:20231029T010000
END:STANDARD
BEGIN:DAYLIGHT
TZOFFSETFROM:+0100
TZOFFSETTO:+0200
TZNAME:CEST
DTSTART:20240331T010000
END:DAYLIGHT
BEGIN:STANDARD
TZOFFSETFROM:+0200
TZOFFSETTO:+0100
TZNAME:CET
DTSTART:20241027T010000
END:STANDARD
BEGIN:DAYLIGHT
TZOFFSETFROM:+0100
TZOFFSETTO:+0200
TZNAME:CEST
DTSTART:20250330T010000
END:DAYLIGHT
BEGIN:STANDARD
TZOFFSETFROM:+0200
TZOFFSETTO:+0100
TZNAME:CET
DTSTART:20251026T010000
END:STANDARD
END:VTIMEZONE
BEGIN:VEVENT
DTSTART;VALUE=DATE:20240614
DTEND;VALUE=DATE:20240715
DTSTAMP:20260424T150031
CREATED:20240415T080817Z
LAST-MODIFIED:20240618T122806Z
UID:10050067-1718323200-1721001599@tempo.dam-online.de
SUMMARY:DIE STADT IST DER SPORT. STÄDTE IN BEWEGUNG: BEISPIELE AUS GANZ EUROPA
DESCRIPTION:Besuch\n\n\n	\n\n		\nInfos & ServicesFührungenMuseumsshopCaféKontaktDAM Aktuell\n	...	\n \n		\n\n		\nÖffnungszeitenWird geladen ...\n \n\n\nWird geladen ...\n\n	\n    	            \n                                    \n                                    \n                                    \n                            \n                        \n                                    \n                                    \n                                    \n                            \n                        \n                                    \n                                    \n                                    \n                            \n                        \n                                    \n                                    \n                                    \n                            \n                        \n                                    \n                                    \n                                    \n                            \n                        \n                                    \n                                    \n                                    \n                            \n                        \n                                    \n                                    \n                                    \n                            \n                        \n                                    \n                                    \n                                    \n                            \n                        \n                                    \n                                    \n                                    \n                            \n                        \n                                    \n                                    \n                                    \n                            \n                        \n                                    \n                                    \n                                    \n                            \n                        \n                                    \n                                    \n                                    \n                            \n            \n\n \n\n\n\n\n\n\nHeiligabend\, 1. Weihnachtsfeiertag und 1. Januar GESCHLOSSEN!\n Anfahrt			\n				Deutsches Architekturmuseum (DAM)\n				Schaumainkai 43\n				60596 Frankfurt am Main\n				\n				\n				\n				Stadtplan\n			 Kontakt			\n				T 069 212 38844\n			info.dam@stadt-frankfurt.de\n			 		\n\n		\n		\n	\n\nProgramm\n\n\n	\n\n		\nAusstellungenVeranstaltungenArchitekturpreisePublikationenDAM Digital		\n\n		\n\n\n\n\n\nVogelhaus Bauworkshop an der Langen Bank25. April – 13:00 – 16:00NACHT DER MUSEEN25. April – 19:00 – 26. April – 2:00\n\n \n\n		\n\n		\n		\n	\n\n	\n\n		\nFoto: Fritz Philipp \n				\n				\n				\n				\n				\n\nEs sind keine anstehenden Veranstaltungen vorhanden.\n\n\n\n\n\n\n\n\n			\n				\n				\n				\n				\n				\n\nEs sind keine anstehenden Veranstaltungen vorhanden.\n\n\n\n			Architekturpreise aktuell:Nächste Veranstaltung:NEUER MENSCH\, NEUE WOHNUNG\n\n				\n	\n\n	\n\n		\nDAM im Stadtraum		\n	\n\nBildung\n\n\n	\n\n		\nErwachseneKinder\, Jugendliche & FamilienSchule & KitaFührungen & TourenPublikationenAnsprechpartner		\n\n		\nKontakt\nConfiyet Aydin\, M.A.\nStellvertretende Leitung Bildung und Vermittlungconfiyet.aydin@stadt-frankfurt.deT +49 (0)69 212-31076\n \n\nNächste Veranstaltung\n\nBlock Lab Minecraft Workshop: DAS HAUS24. April – 16:00 – 18:00After Work Führung: SUBURBIA29. April – 17:00\n\n  		\n\n		\n		\n	\n\n	\n\n		\nNächste Veranstaltung		\n	\n\nSammlungen\n\n\n	\n\n		\nDAM ArchivDAM Sammlung DigitalDAM Bibliothek		\n\n		\nDAM Archiv				\n				Hedderichstraße 108-110\n				60596 Frankfurt am Main\n				dam.archiv@stadt-frankfurt.de\n				 \n				\n				Archivleitung\n				Dr. Katja Leiskau\n				dam.archiv@stadt-frankfurt.de\n				T +49 (0)69 212-30831\n				 \n				\n				DAM Bibliothek			\n				Hedderichstraße 108-110\n				60596 Frankfurt am Main\n				dam.bibliothek@stadt-frankfurt.de\n			 \n			\n				Christiane Eulig\,\n				Bibliothekarin\n				T +49 (0)69 212-30827\n				christiane.eulig@stadt-frankfurt.de\n			 		\n\n		\n		\n	\n\nDas DAM\n\n\n	\n\n		\nPortraitTeamFreunde des DAMSponsoren und UnterstützerJobs		\n\n		\nFreund werden		\n\n		\n		\n	\n\n	\n	\n\n \n			\n			\n				\n				\n				\n				\n			\n				\n				\n			\n				\n				\n				\n				\n				\n				\n				\n				\n				\n				\n				\n				\n					\n					\n						\n						DIE STADT IST DER SPORT\n						Städte in Bewegung: Beispiele aus ganz Europa\n						\n						\n					\n				\n					\n				\n				\n				\n			\n				\n				\n			\n				\n				\n				\n				\n				\n				\n				\n				\n				\n				\n				\n				\n				\n				\n				\n				\n				\n				 \nFoto: Kadir Akgün \nVom 14. JUNI — 14. JULI wandert die Ausstellung in die EM Fanzone. Im Oktober wird sie im DAM am Schaumainkai zu sehen sein.  \nSport ist Gemeinschaft. Ob Fußball spielen in einem lokalen Verein auf dem Bolzplatz oder als Zuschauer im Stadion oder mit einer Fitnessgruppe im Park. Als gemeinschaftliches Erlebnis ist Sport ein wichtiges Element für ein Miteinander und für das Zusammenleben der heutigen Stadtgesellschaft. Der Trend ist seit einigen Jahren überall in den Städten sichtbar: Öffentliche Grün- und Freiflächen gewinnen eine neue Bedeutung für Sport und Bewegung – nicht nur für das Street-Workout. \nAnlässlich der UEFA Euro 2024 präsentiert das DAM eine Ausstellung mit Projekten aus Europa\, die sportliche Aktivität und Bewegungsarten auf innovative Weise in den Stadtraum integrieren\, vom urbanen Fußballfeld bis zu Streetball oder Crossgolf. Offzieller Beitrag zum Kunst- und Kulturprogramm zur UEFA EURO 2024TM . \nGefördert durch die Stiftung Fußball & Kultur EURO 2024 sowie die Bundesregierung.Unterstützt durch die Gesellschaft der Freunde des DAM. \nAusstellungsführungen mit Yorck Förster: \n29.06. / 30.06 / 01.07. / 02.07. / 05.07 / 06.07.\, jeweils um 16 Uhr am Eingang der Fanzone / Eiserner Steg \n09.07. / 10.07. / 14.07.\, jeweils um 17 Uhr \n \n			\n			\n				\n				\n				\n				\n			\n				\n				\n				\n				\n				\n				\n				\n				\n				\n				\n				Begleitprogramm\n\n			\n				\n				\n				\n				\n				\n\n\n\n\n\n	\n					\n			\n                \n                                                                                \n			\n				\n			\n				UNITED BY BARZ – Calisthenics Community Event – mit Flythenics\n			\n							\n										2. Mai – 10:00 – 17:00									\n												                \n                                                                    Das Calisthenics Community Event im DAM bringt Athlet:innen\, Sportbegeisterte und Zuschauer:innen zu...                                    \n			                    \n	\n\n\n\n\n\n\n	\n					\n			\n                \n                                                                                \n			\n				\n			\n				Familienführung: Die Stadt ist der Sport – Städte in Bewegung: Beispiele aus ganz Europa\n			\n							\n										3. Mai – 13:00 – 14:00									\n												                \n                                                                    Wie kann man als Elternteil gemeinsam mit Kindern unterschiedlichen Alters ins Museum gehen\, so dass...                                    \n			                    \n	\n\n\n\n\n\n\n	\n					\n			\n                \n                                                                                \n			\n				\n			\n				Aktionstag – Fechten hautnah erleben – Eintracht Frankfurt e.V.\n			\n							\n										7. Mai – 16:00 – 19:00									\n												                \n                                                                    Wenn Bewegung auf Begegnung trifft\, wird die Stadt zur Bühne: Unter dem Motto „Die Stadt ist der ...                                    \n			                    \n	\n\n\n\n\n\n\n	\n					\n			\n                \n                                                                                \n			\n				\n			\n				Community Day – Kids\, Jugendliche\, Erwachsene & Pro-Spieler\n			\n							\n										9. Mai – 16:00 – 20:00									\n												                \n                                                                    Das Deutsche Architekturmuseum wird zur Bühne für ein außergewöhnliches 1-vs-1 Basketball-Event ...                                    \n			                    \n	\n\n\n\n\n\n\n	\n					\n			\n                \n                                                                                \n			\n				\n			\n				Women’s Day – Basketball & Empowerment\n			\n							\n										10. Mai – 16:00 – 20:00									\n												                \n                                                                    Am Women’s Day gehört die Bühne den Frauen und jungen Mädchen. Beim Women’s Day im Deutsches ...                                    \n			                    \n	\n\n\n\n\n\n\n	\n					\n			\n                \n                                                                                \n			\n				\n			\n				After Work Führung: DIE STADT IST DER SPORT\n			\n							\n										13. Mai – 17:00									\n												                \n                                                                    Anna Scheuermann\, Architektin und Kuratorin\, nimmt Sie mit auf einen Rundgang durch die Ausstellung ...                                    \n			                    \n	\n\n\n\n\n\n\n	\n					\n			\n                \n                                                                                \n			\n				\n			\n				Action Day Rugby – SC 1880 Frankfurt – Mitmachen & Ausprobieren\n			\n							\n										17. Mai – 16:00 – 20:00									\n												                \n                                                                    Am 27. Mai bringt der SC Frankfurt 1880 Rugby ins Deutsche Architekturmuseum. Die Sportart\, mit der ...                                    \n			                    \n	\n\n\n\n\n\n\n	\n					\n			\n                \n                                                                                \n			\n				\n			\n				NeighborGood Jam – Community Dance Battle\n			\n							\n										23. Mai – 13:00 – 20:00									\n												                \n                                                                    Die NeighborGood Jam bringt Tänzer:innen und Musikliebhaber:innen aus der Rhein-Main-Region im Deut...                                    \n			                    \n	\n\n\n\n\n\n\n	\n					\n			\n                \n                                                                                \n			\n				\n			\n				Vortrag: Dauerbrenner Wohnvorstellung: Das Einfamilienhaus in der BRD\n			\n							\n										28. Mai – 19:00									\n												                \n                                                                    Warum halten wir uns am Einfamilienhaus als Eigenheim fest? Wie entstanden unsere Vorstellungen und ...                                    \n			                    \n	\n\n\n\n\n\n\n	\n					\n			\n                \n                                                                                \n			\n				\n			\n				Satourday: Museums-Parcours im DAM\n			\n							\n										30. Mai – 14:00 – 16:30									\n												                \n                                                                    Dieser SaTOURday wird sportlich – passend zur Ausstellung „Die Stadt ist der Sport“! Wir wolle...                                    \n			                    \n	\n\n\n\n\n\n\n	\n					\n			\n                \n                                                                                \n			\n				\n			\n				Creative Tischtennis Day – TSG Oberrad 1872 TT & PingPongPark069\n			\n							\n										31. Mai – 12:00 – 18:00									\n												                \n                                                                    Wenn Vereinsleben auf Outdoor-Community\, „normales“ Tischtennis-Equipment auf innovative Tische ...                                    \n			                    \n	\n\n\n\n\n\n\n	\n					\n			\n                \n                                                                                \n			\n				\n			\n				After Work Führung: DIE STADT IST DER SPORT\n			\n							\n										3. Juni – 17:00									\n												                \n                                                                    Anna Scheuermann\, Architektin und Kuratorin\, nimmt Sie mit auf einen Rundgang durch die Ausstellung ...                                    \n			                    \n	\n\n\n\n\n\n\n	\n					\n			\n                \n                                                                                \n			\n				\n			\n				PELADA WORLD – FRANKFURTS FIRST FAVELA STREET TOURNAMENT\n			\n							\n										6. Juni – 12:00 – 20:00									\n												                \n                                                                    Im Zentrum steht ein urbaner Platz\, transformiert in eine Favela-inspirierte Straßenfußball-Atmosp...
URL:https://tempo.dam-online.de/veranstaltung/die-stadt-ist-der-sport/
LOCATION:UEFA EURO EM 2024 Fanzone Mainufer\, Frankfurt am Main
CATEGORIES:Ausstellung
ATTACH;FMTTYPE=image/jpeg:https://tempo.dam-online.de/wp-content/uploads/2024/04/1R7A8148_KadirAkguen_edited-1-scaled.jpg
ORGANIZER;CN="Deutsches Architekturmuseum (DAM)":MAILTO:info.dam@stadt-frankfurt.de
END:VEVENT
END:VCALENDAR