BEGIN:VCALENDAR
VERSION:2.0
PRODID:-//DAM Online - ECPv6.15.20//NONSGML v1.0//EN
CALSCALE:GREGORIAN
METHOD:PUBLISH
X-WR-CALNAME:DAM Online
X-ORIGINAL-URL:https://tempo.dam-online.de
X-WR-CALDESC:Veranstaltungen für DAM Online
REFRESH-INTERVAL;VALUE=DURATION:PT1H
X-Robots-Tag:noindex
X-PUBLISHED-TTL:PT1H
BEGIN:VTIMEZONE
TZID:UTC
BEGIN:STANDARD
TZOFFSETFROM:+0000
TZOFFSETTO:+0000
TZNAME:UTC
DTSTART:20210101T000000
END:STANDARD
END:VTIMEZONE
BEGIN:VTIMEZONE
TZID:Europe/Berlin
BEGIN:DAYLIGHT
TZOFFSETFROM:+0100
TZOFFSETTO:+0200
TZNAME:CEST
DTSTART:20190331T010000
END:DAYLIGHT
BEGIN:STANDARD
TZOFFSETFROM:+0200
TZOFFSETTO:+0100
TZNAME:CET
DTSTART:20191027T010000
END:STANDARD
BEGIN:DAYLIGHT
TZOFFSETFROM:+0100
TZOFFSETTO:+0200
TZNAME:CEST
DTSTART:20200329T010000
END:DAYLIGHT
BEGIN:STANDARD
TZOFFSETFROM:+0200
TZOFFSETTO:+0100
TZNAME:CET
DTSTART:20201025T010000
END:STANDARD
BEGIN:DAYLIGHT
TZOFFSETFROM:+0100
TZOFFSETTO:+0200
TZNAME:CEST
DTSTART:20210328T010000
END:DAYLIGHT
BEGIN:STANDARD
TZOFFSETFROM:+0200
TZOFFSETTO:+0100
TZNAME:CET
DTSTART:20211031T010000
END:STANDARD
BEGIN:DAYLIGHT
TZOFFSETFROM:+0100
TZOFFSETTO:+0200
TZNAME:CEST
DTSTART:20220327T010000
END:DAYLIGHT
BEGIN:STANDARD
TZOFFSETFROM:+0200
TZOFFSETTO:+0100
TZNAME:CET
DTSTART:20221030T010000
END:STANDARD
BEGIN:DAYLIGHT
TZOFFSETFROM:+0100
TZOFFSETTO:+0200
TZNAME:CEST
DTSTART:20230326T010000
END:DAYLIGHT
BEGIN:STANDARD
TZOFFSETFROM:+0200
TZOFFSETTO:+0100
TZNAME:CET
DTSTART:20231029T010000
END:STANDARD
END:VTIMEZONE
BEGIN:VEVENT
DTSTART;TZID=UTC:20220928T130000
DTEND;TZID=UTC:20220928T160000
DTSTAMP:20260423T001657
CREATED:20220916T091230Z
LAST-MODIFIED:20220916T091446Z
UID:10049836-1664370000-1664380800@tempo.dam-online.de
SUMMARY:Was brauchen innerstädtische Plätze? – Ein Modellbauworkshop
DESCRIPTION:Workshop\n28. September\, 13-16 Uhr\nSkater-Ebene\, Hauptwache \nWas macht einen zentralen\, innerstädtischen Platz für dich aus? Was brauchen urbane Plätze\, an dem sich täglich viele Menschen begegnen\, damit sich jeder und jede wohl fühlt\, um dort beispielsweise länger zu verweilen? Was wird bereits gut genutzt oder was fehlt dir? Anhand von acht ausgewählten Plätzen der Innenstadt Frankfurts wollen wir diesen Fragen kreativ auf den Grund gehen. \nBei unserem Modellbauworkshop\, der auf der Skater Ebene der Hauptwache stattfinden wird\, wollen wir diese innerstädtischen Plätze in kleinerer Form mit verschiedenen Materialien nicht einfach nachbauen sondern vor allem mit eigenen Ideen und Wünschen füllen und neudenken. Die entstandenen Modelle werden Teil der Projektausstellung „Wohnzimmer Hauptwache“ des Deutschen Architekturmuseums. \nDer Workshop ist kostenlos. \nGerne können Sie sich vorab anmelden unter dam-reallabor@stadt-frankfurt.de oder direkt vorbei schauen und mit-bauen. \n 
URL:https://tempo.dam-online.de/veranstaltung/was-brauchen-innerstaedtische-plaetze-ein-modellbauworkshop/
LOCATION:Hauptwache Frankfurt\, Deutschland
CATEGORIES:Kinder, Jugendliche & Familien,Veranstaltung,Vermittlung
ATTACH;FMTTYPE=image/jpeg:https://tempo.dam-online.de/wp-content/uploads/2022/08/WH_Webkachel.jpg
ORGANIZER;CN="Deutsches Architekturmuseum (DAM)":MAILTO:info.dam@stadt-frankfurt.de
END:VEVENT
BEGIN:VEVENT
DTSTART;TZID=Europe/Berlin:20220920T110000
DTEND;TZID=Europe/Berlin:20220920T130000
DTSTAMP:20260423T001657
CREATED:20220901T130939Z
LAST-MODIFIED:20221020T180822Z
UID:10049831-1663671600-1663678800@tempo.dam-online.de
SUMMARY:Wildnis Hauptwache
DESCRIPTION:Hier brummt’s gewaltig: Mit unserer mobilen und interaktiven Forschungsstation untersuchen wir die Artenvielfalt auf der Hauptwache. Forscher:innen der UAS-Frankfurt und Teilnehmer:innen des Workshops nehmen das Leben auf der Hauptwache unter die Lupe und gehen der Frage nach\, wie verschiedene Lebensräume miteinander existieren können. \n20. September 2022\, 11:00-13:00 Uhr (bereits ausgebucht\n27. September 2022\, 11:00-13:00 Uhr (bereits ausgebucht)\n3. Oktober 2022\, 11:00-13:00 Uhr \nTreffpunkt: vor der St. Katharinenkirche \n 
URL:https://tempo.dam-online.de/veranstaltung/wildnis-hauptwache/2022-09-20/
LOCATION:Hauptwache Frankfurt\, Deutschland
CATEGORIES:Veranstaltung
ATTACH;FMTTYPE=image/jpeg:https://tempo.dam-online.de/wp-content/uploads/2022/08/WH_Webkachel_02.jpg
ORGANIZER;CN="Deutsches Architekturmuseum (DAM)":MAILTO:info.dam@stadt-frankfurt.de
END:VEVENT
BEGIN:VEVENT
DTSTART;TZID=Europe/Berlin:20220909T120000
DTEND;TZID=Europe/Berlin:20220909T170000
DTSTAMP:20260423T001657
CREATED:20220901T125314Z
LAST-MODIFIED:20221020T181210Z
UID:10049830-1662724800-1662742800@tempo.dam-online.de
SUMMARY:Radarmobil
DESCRIPTION:Viel Platz für Nichts?\nAm Donnerstag und Freitag macht die Leerstandsagentur R A D A R mit ihrem R A D A R-Mobil auf der Hauptwache halt. Im Mikro-Wohnzimmer und Möglichkeitsraum wird gesprochen\, geträumt\, gerätselt und hinterfragt. \nFelix Hevelke und Paola Wechs treffen sich täglich von 12 – 17 Uhr mit geladenen Gästen zu „raum.gesprächen“ und befragen Passant:innen zu Stadt\, Räumen\, Plätzen und natürlich auch zur Hauptwache selbst. Was kann Stadt\, städtisches und die Hauptwache in Zukunft für uns sein? \nAm Donnerstagabend um 18 Uhr findet vor Ort eine Lesung\, Diskussion und Gesprächsrunde mit dem Künstler\, Raumentwickler und Autor Jakob Sturm statt. Gemeinsam mit Johanna Moraweg (Zeil-Antiquariat) diskutiert er anhand seines Buches „Orte möglichen Wohnens” die neue Bedeutung der Innenstadt. \nR A D A R aktiviert im Auftrag des Stadtplanungsamtes und in Kooperation mit der Wirtschaftsförderung und dem Kulturamt Räume für kreative Nutzungen und begleitet das „Frankfurter Programm zur Förderung des Umbaus leerstehender Räume für Kreative“. \nProgramm \nDonnerstag 08.09. \n\nUmfrage ab 12 Uhr\n13:30 – 14:30 Uhr Gespräch mit Lena Grewenig – Lab 106\n15 – 16 Uhr Gespräch mit Tabea Latocha – über Wohnen\, Leben und Krisen\n16:30 – 17:30 Uhr Gespräch mit Dr. Natalie Heger und Ruth Schlögl – Wildnis Hauptwache\ndanach Lesung mit Jakob Sturm\n\n  \nFreitag 09.09. \n\nUmfrage ab 11 Uhr\n12 – 13 Uhr Gespräch mit Aileen Treusch – Stadt als Museum\, Sichtbare/Unsichtbare Infrastrukturen\n14 – 15 Uhr Gespräch mit Felix Große-Lohmann – ReUse ReBuild ReCycle\n16 – 17 Uhr Gespräch mit Robin Weidner – Hierarchien in öffentlichen Raum
URL:https://tempo.dam-online.de/veranstaltung/radarmobil/2022-09-09/
LOCATION:Hauptwache Frankfurt\, Deutschland
CATEGORIES:Veranstaltung
ATTACH;FMTTYPE=image/jpeg:https://tempo.dam-online.de/wp-content/uploads/2022/08/WH_Webkachel_03.jpg
ORGANIZER;CN="Deutsches Architekturmuseum (DAM)":MAILTO:info.dam@stadt-frankfurt.de
END:VEVENT
BEGIN:VEVENT
DTSTART;TZID=Europe/Berlin:20220908T120000
DTEND;TZID=Europe/Berlin:20220908T170000
DTSTAMP:20260423T001657
CREATED:20220901T125314Z
LAST-MODIFIED:20221020T181210Z
UID:10049829-1662638400-1662656400@tempo.dam-online.de
SUMMARY:Radarmobil
DESCRIPTION:Viel Platz für Nichts?\nAm Donnerstag und Freitag macht die Leerstandsagentur R A D A R mit ihrem R A D A R-Mobil auf der Hauptwache halt. Im Mikro-Wohnzimmer und Möglichkeitsraum wird gesprochen\, geträumt\, gerätselt und hinterfragt. \nFelix Hevelke und Paola Wechs treffen sich täglich von 12 – 17 Uhr mit geladenen Gästen zu „raum.gesprächen“ und befragen Passant:innen zu Stadt\, Räumen\, Plätzen und natürlich auch zur Hauptwache selbst. Was kann Stadt\, städtisches und die Hauptwache in Zukunft für uns sein? \nAm Donnerstagabend um 18 Uhr findet vor Ort eine Lesung\, Diskussion und Gesprächsrunde mit dem Künstler\, Raumentwickler und Autor Jakob Sturm statt. Gemeinsam mit Johanna Moraweg (Zeil-Antiquariat) diskutiert er anhand seines Buches „Orte möglichen Wohnens” die neue Bedeutung der Innenstadt. \nR A D A R aktiviert im Auftrag des Stadtplanungsamtes und in Kooperation mit der Wirtschaftsförderung und dem Kulturamt Räume für kreative Nutzungen und begleitet das „Frankfurter Programm zur Förderung des Umbaus leerstehender Räume für Kreative“. \nProgramm \nDonnerstag 08.09. \n\nUmfrage ab 12 Uhr\n13:30 – 14:30 Uhr Gespräch mit Lena Grewenig – Lab 106\n15 – 16 Uhr Gespräch mit Tabea Latocha – über Wohnen\, Leben und Krisen\n16:30 – 17:30 Uhr Gespräch mit Dr. Natalie Heger und Ruth Schlögl – Wildnis Hauptwache\ndanach Lesung mit Jakob Sturm\n\n  \nFreitag 09.09. \n\nUmfrage ab 11 Uhr\n12 – 13 Uhr Gespräch mit Aileen Treusch – Stadt als Museum\, Sichtbare/Unsichtbare Infrastrukturen\n14 – 15 Uhr Gespräch mit Felix Große-Lohmann – ReUse ReBuild ReCycle\n16 – 17 Uhr Gespräch mit Robin Weidner – Hierarchien in öffentlichen Raum
URL:https://tempo.dam-online.de/veranstaltung/radarmobil/2022-09-08/
LOCATION:Hauptwache Frankfurt\, Deutschland
CATEGORIES:Veranstaltung
ATTACH;FMTTYPE=image/jpeg:https://tempo.dam-online.de/wp-content/uploads/2022/08/WH_Webkachel_03.jpg
ORGANIZER;CN="Deutsches Architekturmuseum (DAM)":MAILTO:info.dam@stadt-frankfurt.de
END:VEVENT
BEGIN:VEVENT
DTSTART;TZID=UTC:20220907T140000
DTEND;TZID=UTC:20220907T140000
DTSTAMP:20260423T001657
CREATED:20220901T123224Z
LAST-MODIFIED:20220901T123244Z
UID:10049828-1662559200-1662559200@tempo.dam-online.de
SUMMARY:Eröffnung DAM-Reallabor „Wohnzimmer Hauptwache 2022“
DESCRIPTION:Eröffnung DAM-Reallabor „Wohnzimmer Hauptwache 2022“ \nEs geht los: Unser Stadtexperiment\, das DAM-Reallabor „Wohnzimmer Hauptwache“\, eröffnet mit einem gemeinsamen Mittagessen auf der Frankfurter Hauptwache. Mit dabei sind alle am Projekt beteiligten Ämter\, Institutionen und Akteur:innen. Wir freuen uns auf einen regen Austausch und hoffen auf einen spannenden Auftakt für unser Experiment \n7. September 2022\, 14:00 Uhr 1. Hauptwache-Rundgang
URL:https://tempo.dam-online.de/veranstaltung/eroeffnung-dam-reallabor-wohnzimmer-hauptwache-2022/
LOCATION:Hauptwache Frankfurt\, Deutschland
CATEGORIES:Veranstaltung
ATTACH;FMTTYPE=image/jpeg:https://tempo.dam-online.de/wp-content/uploads/2022/08/WH_Webkachel_02.jpg
ORGANIZER;CN="Deutsches Architekturmuseum (DAM)":MAILTO:info.dam@stadt-frankfurt.de
END:VEVENT
BEGIN:VEVENT
DTSTART;VALUE=DATE:20220506
DTEND;VALUE=DATE:20221119
DTSTAMP:20260423T001657
CREATED:20220905T090714Z
LAST-MODIFIED:20230510T090912Z
UID:10049835-1651795200-1668815999@tempo.dam-online.de
SUMMARY:Urbanes Reallabor: „Wohnzimmer Hauptwache 2022“
DESCRIPTION:Teilhabe als zentrales Element \nDas DAM-Reallabor „Wohnzimmer Hauptwache“ belebte als Teil des Modellprojekts „Post-Corona-Stadt“ im Herbst 2022 die Frankfurter Innenstadt und ist auch in diesem Jahr dort aktiv. \nHerkommen\, mitmachen und einbringen – so lautete das Motto des DAM-Reallabors „Wohnzimmer Hauptwache 2022“. Im Herbst verwandelte sich einer der wichtigsten Verkehrsknotenpunkte der Stadt\, die Frankfurter Hauptwache\, in ein Testfeld für integrierte Stadtentwicklung. Musik- und Sportevents sowie Gesprächsformate und künstlerische Interventionen luden die Menschen dazu ein\, Visionen und Perspektiven für die Hauptwache zu entwickeln. Gemeinsam mit Passant*innen\, Expert*innen\, Künstler*innen und offiziellen Stadtmacher*innen stellte das DAM die Frage\, wie eine lebenswerte Innenstadt der Zukunft aussehen könnte. Hintergrund für das museale Stadtraum-Experiment ist ein Gemeinschaftsprojekt der Stadt Frankfurt. Dieses läuft im Rahmen des nationalen Förderprogramms „Post-Corona-Stadt“ und wird durch das Bundesministerium für Wohnen\, Stadtentwicklung und Bauwesen im Rahmen der Nationalen Stadtentwicklungspolitik gefördert. \nSitzen als Schlüssel zum Erfolg\nMit dem Reallabor schuf das DAM nicht nur eine neue museale Fläche im öffentlichen Raum. Es etablierte auch eine Plattform zur Vernetzung der städtischen Akteure und bescherte ihnen dadurch die Möglichkeit\, neue Ideen auszuprobieren. Das „Wohnzimmer Hauptwache“ begeisterte Jung und Alt für das Thema „Stadtmachen“ sowie die verschiedenen Möglichkeiten\, sich an diesen Prozessen zu beteiligen. So nahmen Passanten und geladene Gäste am Esstisch in der „WG-Küche“ Platz. Im Schutz des Cafés Hauptwache entstand dort unter freiem Himmel eine vollständig eingerichtete Küche – ein Ort\, um Innezuhalten und gleichzeitig bei einer Tasse Tee und Keksen ins Gespräch zu kommen. \nSchwarz-weiße Treppenelemente\, die „Talking Stairs“\, luden dazu ein sich niederzulassen. In der B-Ebene der Hauptwache\, im Raum 44\, trafen sich die Menschen\, um zu diskutieren und Lesungen zu hören und die Kammerphilharmonie Frankfurt nutze die Herrenunterwäsche-Abteilung des Kaufhauses Galeria als Bühne für ihre Karstadt-Konzerte. Kinder und Jugendliche untersuchten Flora und Fauna im Workshop “Wildnis Hauptwache“ und entwarfen ihre ganz persönliche Vision der Hauptwache im Modellbau-Workshop. \nSport ist auch in der Innenstadt möglich\nWie der innenstädtische Raum durch ein Streetball-Event belebt werden kann und was ein offen zugängliches Sportprogramm für eine lebendige\, offene und zukunftsorientierte Gesellschaft bedeutet\, machten hingegen die EZB Basketballer mit dem „EZBB Open Gym“ vor. Im November dribbelten dort bis in die Abendstunden hinein junge und ältere Spieler*innen und auch Laufpublikum auf zwei bunt eingezeichneten Basketball-Courts und lieferten sich auf dem Vorplatz der Hauptwache spannende Turniere. \nStadtraum-Experimente gehen 2023 weiter\nAuch in diesem Jahr ist das DAM auf der Hauptwache aktiv. Im Sommer eröffnet auf dem belebten Platz die Ausstellung „Zukunft Innenstadt Frankfurt“. Sie geht der Frage nach\, welche Bedürfnisse und Anforderungen an eine lebenswerte Frankfurter Innenstadt in der Zukunft bestehen. Die Wanderausstellung wird an ausgewählten Orten zu sehen sein und soll bundesweit in den Modellstädten des Förderprogramms Station machen. Einen nächsten Schritt für mehr Aufenthaltsqualität im öffentlichen Raum geht das Museum mit der künstlerischen Intervention „Die Lange Bank“. Die modulare Sitzmöglichkeit wird dort erstmals für verschiedene Dialogformate bereitstehen. Bis dahin bleibt das DAM immer mittwochs mit der Veranstaltung „Bring your own Lunch“ mit offiziellen Stadtakteur*innen und interessierten Bürger*innen im Gespräch. Treffpunkt ist die im März eröffnete „Agentur des städtischen Wandels“ in der Braubachstraße 7. Das DAM und seine Partner waren dort bereits im Februar aktiv: Großflächige Fotos der Aktionen 2022 zierten die Schaufenster des ehemaligen Fachgeschäfts für Autoteile bis zur Eröffnung der neuen Vernetzungswerkstatt. \nSTADTPLANUNGSAMT FRANKFURT \nMITTE FRANKFURT – ZUKUNFT INNENSTADT                                                           \n\nNATIONALE STADTENTWICHLUNGSPOLITIK \nBUNDESMINISTERIUM FÜR WOHNEN\, STADTENTWICKLUNG UND Bauwesen \nBUNDESISTITUT FÜR BAU-\, STADT- UND RAUMFORSCHUNG  \nDas Projekt wird durch das Bundesministerium für Wohnen\, Stadtentwicklung und Bauwesen im Rahmen der Nationalen Stadtentwicklungspolitik gefördert. \n  \n     
URL:https://tempo.dam-online.de/veranstaltung/reallabor/
LOCATION:Hauptwache Frankfurt\, Deutschland
CATEGORIES:Veranstaltung
ATTACH;FMTTYPE=image/jpeg:https://tempo.dam-online.de/wp-content/uploads/2023/05/WoziCollage-1280x721-1.jpg
ORGANIZER;CN="Stadtplanungsamt Frankfurt":MAILTO: planungsamt@stadt-frankfurt.de
END:VEVENT
BEGIN:VEVENT
DTSTART;VALUE=DATE:20201031
DTEND;VALUE=DATE:20210607
DTSTAMP:20260423T001657
CREATED:20200716T110734Z
LAST-MODIFIED:20220914T152928Z
UID:10049407-1604102400-1623023999@tempo.dam-online.de
SUMMARY:INTERNATIONALER HOCHHAUSPREIS 2020
DESCRIPTION:Besuch\n\n\n	\n\n		\nInfos & ServicesFührungenMuseumsshopCaféKontaktDAM Aktuell\n	...	\n \n		\n\n		\nÖffnungszeitenWird geladen ...\n \n\n\nWird geladen ...\n\n	\n    	            \n                                    \n                                    \n                                    \n                            \n                        \n                                    \n                                    \n                                    \n                            \n                        \n                                    \n                                    \n                                    \n                            \n                        \n                                    \n                                    \n                                    \n                            \n                        \n                                    \n                                    \n                                    \n                            \n                        \n                                    \n                                    \n                                    \n                            \n                        \n                                    \n                                    \n                                    \n                            \n                        \n                                    \n                                    \n                                    \n                            \n                        \n                                    \n                                    \n                                    \n                            \n                        \n                                    \n                                    \n                                    \n                            \n                        \n                                    \n                                    \n                                    \n                            \n                        \n                                    \n                                    \n                                    \n                            \n            \n\n \n\n\n\n\n\n\nHeiligabend\, 1. Weihnachtsfeiertag und 1. Januar GESCHLOSSEN!\n Anfahrt			\n				Deutsches Architekturmuseum (DAM)\n				Schaumainkai 43\n				60596 Frankfurt am Main\n				\n				\n				\n				Stadtplan\n			 Kontakt			\n				T 069 212 38844\n			info.dam@stadt-frankfurt.de\n			 		\n\n		\n		\n	\n\nProgramm\n\n\n	\n\n		\nAusstellungenVeranstaltungenArchitekturpreisePublikationenDAM Digital		\n\n		\n\n\n\n\n\nNACHT DER MUSEEN25. April – 19:00 – 26. April – 2:00UNITED BY BARZ – Calisthenics Community Event – mit Flythenics2. Mai – 10:00 – 17:00\n\n \n\n		\n\n		\n		\n	\n\n	\n\n		\nFoto: Fritz Philipp \n				\n				\n				\n				\n				\n\nEs sind keine anstehenden Veranstaltungen vorhanden.\n\n\n\n\n\n\n\n\n			\n				\n				\n				\n				\n				\n\nEs sind keine anstehenden Veranstaltungen vorhanden.\n\n\n\n			Architekturpreise aktuell:Nächste Veranstaltung:NEUER MENSCH\, NEUE WOHNUNG\n\n				\n	\n\n	\n\n		\nDAM im Stadtraum		\n	\n\nBildung\n\n\n	\n\n		\nErwachseneKinder\, Jugendliche & FamilienSchule & KitaFührungen & TourenPublikationenAnsprechpartner		\n\n		\nKontakt\nConfiyet Aydin\, M.A.\nStellvertretende Leitung Bildung und Vermittlungconfiyet.aydin@stadt-frankfurt.deT +49 (0)69 212-31076\n \n\nNächste Veranstaltung\n\nBlock Lab Minecraft Workshop: DAS HAUS24. April – 16:00 – 18:00After Work Führung: SUBURBIA29. April – 17:00\n\n  		\n\n		\n		\n	\n\n	\n\n		\nNächste Veranstaltung		\n	\n\nSammlungen\n\n\n	\n\n		\nDAM ArchivDAM Sammlung DigitalDAM Bibliothek		\n\n		\nDAM Archiv				\n				Hedderichstraße 108-110\n				60596 Frankfurt am Main\n				dam.archiv@stadt-frankfurt.de\n				 \n				\n				Archivleitung\n				Dr. Katja Leiskau\n				dam.archiv@stadt-frankfurt.de\n				T +49 (0)69 212-30831\n				 \n				\n				DAM Bibliothek			\n				Hedderichstraße 108-110\n				60596 Frankfurt am Main\n				dam.bibliothek@stadt-frankfurt.de\n			 \n			\n				Christiane Eulig\,\n				Bibliothekarin\n				T +49 (0)69 212-30827\n				christiane.eulig@stadt-frankfurt.de\n			 		\n\n		\n		\n	\n\nDas DAM\n\n\n	\n\n		\nPortraitTeamFreunde des DAMSponsoren und UnterstützerJobs		\n\n		\nFreund werden		\n\n		\n		\n	\n\n	\n	\n\n \n			\n			\n				\n				\n				\n				\n			\n				\n				\n			\n				\n				\n				\n				\n				\n				\n				\n				\n				\n				\n				\n				\n					\n					\n						\n						Best Highrises 2020/21\n						Internationaler Hochhaus Preis 2020\n						\n						\n					\n				\n					\n				\n				\n				\n			\n				\n				\n			\n				\n				\n				\n				\n				\n				\n				\n				\n				\n				\n				\n				\n				\n				\n				\n				\n				\n				31. Oktober 2020 – 6. Juni 2021\nDer Internationale Hochhaus Preis 2020 präsentiert eine Auswahl aktueller Hochhausprojekte auf der ganzen Welt\, die sich durch zukunftsweisende Gestaltung\, Funktionalität\, innovative Bautechnik\, städtebauliche Einbindung\, Nachhaltigkeit und Wirtschaftlichkeit auszeichnen. \nIn diesem Jahr wurden 31 Projekte aus 14 Ländern für die Auszeichnung mit dem Internationalen Hochhaus Preis nominiert. Wie auch in den Jahren zuvor entstanden nirgends auf der Welt so viele Hochhäuser wie in China. Diese enorme Bautätigkeit spiegelt sich auch in der Liste der Nominierten wider\, die zehn Projekte in China beinhaltet. \nObwohl die Vorrecherche des DAM weltweit einen leichten Fertigstellungsrückgang verzeichnete\, etabliert sich die Typologie Hochhaus vermehrt in allen Teilen der Welt. So treiben mittlerweile europäische Städte ihre Hochhausentwicklung voran\, und auch in Afrika entstehen sukzessive neue Türme\, was die erstmalige Nominierung eines Projekts auf diesem Kontinent\, in Marokko\, belegt. \nDie Ausstellung stellt alle nominierten Bauten vor. Der Preisträger steht im Zentrum der Ausstellung und wird gemeinsam mit den Finalisten anhand von Modellen\, großformatigen Fotos\, Zeichnungen\, Texten und Filmen in der Ausstellung dokumentiert. \nDas Gewinnergebäude ‘Norra Tornen‘ in Stockholm/Schweden von Office for Metropolitan Architecture (OMA) aus Rotterdam überzeugte die Jury durch eine zeitlos-wegweisende Architektur. Die Kombination aus qualitativ hochwertigen Betonfertigteilelementen\, ihre geschickte Fügung zu individuellen Loggien und der Kontrast zu den feinen Details der Innenräume zeichnen das Hochhaus aus. Darüber hinaus leistet Norra Tornen mit seinem Erscheinungsbild einen wichtigen Beitrag zu einem stimmigen Stadtgefüge. Die Doppeltürme seien zudem Ausdruck einer gleichwertigen Gesellschaft\, womit sie nicht nur ein Charakteristikum der schwedischen Kultur\, sondern auch eine universelle Botschaft vermitteln. \nDer Internationale Hochhaus Preis (IHP) wird alle zwei Jahre vom Deutschen Architekturmuseum (DAM) und der DekaBank organisiert und als offizieller Preis der Stadt Frankfurt verliehen. \n			\n			\n				\n				\n				\n				\n			\n				\n				\n				\n				\n				\n				\n				\n				\n				\n				\n				Videos zur Preisverleihung und dem Preisträger\n\n			\n			\n				\n				\n				\n				\n			\n				\n				\n				\n				\n				\n				\n				\n				\n				\n				\n				\n				\n			\n			\n				\n				\n				\n				\n				\n				\n				\n				\n				\n				\n				\n			\n			\n				\n				\n				\n				\n			\n				\n				\n				\n				\n				\n				\n				\n				\n				\n				\n				Eindrücke der Ausstellung im DAM \n			\n				\n					\n					\n					\n				\n				Ausstellung International Highrise Award 2020Foto: Moritz Bernoully \n					\n					\n					\n				\n				International Highrise Award 2020Ausstellung International Highrise Award 2020 I © Moritz Bernoully \n					\n					\n					\n				\n				International Highrise Award 2020Ausstellung International Highrise Award 2020 © Moritz Bernoully \n					\n					\n					\n				\n				Ausstellung International Highrise Award 2020Ausstellung International Highrise Award 2020 © Moritz Bernoully \n					\n					\n					\n				\n				International Highrise Award 2020Ausstellung International Highrise Award 2020 © Moritz Bernoully \n					\n					\n					\n				\n				International Highrise Award 2020Foto: Moritz Bernoully \n					\n					\n					\n				\n				International Highrise Award 2020Ausstellung International Highrise Award 2020 I © Moritz Bernoully \n			\n				\n				\n				\n				\n			\n				\n				\n				\n				\n				\n				\n				\n				\n				\n				\n				Publikationen\n\n			\n			\n				\n				\n				\n				\n			\n				\n				\n				\n				\n				\n				\n				\n				\n				\n				\n				\n			\n			\n				\n				\n				\n				\n				\n				\n				\n				\n				\n				Best Highrises 2020/21 \nThe International Highrise Award 2020Internationaler Hochhaus Preis 2020Peter Körner / Stefanie Lampe / Jonas Malzahn / Peter Cachola Schmal (Hg.)erschienen im JOVIS Verlag; Sprache d/en \nDie Publikation präsentiert neben dem Preisträger 31 herausragende Projekte aus 14 Ländern – unter anderem von Zaha Hadid\, OMA und Skidmore\, Owings & Merrill– und dokumentiert damit aktuelle und wichtige Trends der weltweiten Hochhausarchitektur. \nKlappenbroschur\, 21 x 27 cm\, 152 S.\, zahlreiche farb. Abb. u. PläneISBN-13: 978-3-86859-644-1EUR 34\,00 (im Museumsshop für EUR 28\,00 erhältlich) \n  \n			\n				Zur Bestellung\n			\n			\n				\n				\n				\n				\n			\n				\n				\n			\n				\n				\n				\n				\n				\n				\n				\n				\n				\n				\n				\n				\n				\n				\n				\n				\n				\n				Weitere Ausstellungen\n\n\n\n\n\n\n\n	\n					\n			\n                \n                                                                                \n			\n				\n			\n				PAULSKIRCHE. Demokratie\, Debatte\, Denkmal\n			\n							\n										28. Juni 2022 – 31. Dezember 2030									\n												                \n                                                                    Die Frankfurter Paulskirche gilt als eines der wichtigsten Demokratiedenkmale Deutschlands.                                    \n			                    \n	\n\n\n\n\n\n\n	\n					\n			\n                \n                                                                                \n			\n				\n			\n				DAM Preis 2026\n			\n							\n										31. Januar – 28. Juni									\n												                \n                                                                    Seit 2007 werden mit dem DAM Preis für Architektur in Deutschland jährlich herausragende Bauten in...                                    \n			                    \n	\n\n\n\n\n\n\n	\n					\n			\n                \n                                                                                \n			\n				\n			\n				DIE STADT IST DER SPORT. STÄDTE IN BEWEGUNG: BEISPIELE AUS GANZ EUROPA\n			\n							\n										21. Februar – 7. Juni									\n												                \n                                                                    Sport und Bewegung sind wichtige Elemente für ein aktives Miteinander und das Zusammenleben der Sta...                                    \n			                    \n	\n\n\n\n\n\n\n	\n					\n			\n                \n                                                                                \n			\n				\n			\n				SUBURBIA TRÄUME VOM EIGENHEIM – WEGE AUS DER WOHNUNGSKRISE\n			\n							\n										21. März – 18. Oktober									\n												                \n                                                                    Saftiger Rasen\, blauer Pool\, Doppelgarage: Suburbia taucht ein in die (Bild-)Welten der US-amerikani...
URL:https://tempo.dam-online.de/veranstaltung/ihp-2020-2/
LOCATION:DAM Schaumainkai
CATEGORIES:Ausstellung
ATTACH;FMTTYPE=image/jpeg:https://tempo.dam-online.de/wp-content/uploads/2020/09/IHP2020_OMA-Norra-Tornen-Innovationen_Stockholm_Anders-Bobert-Courtesy-of-OMA_-2.jpg
ORGANIZER;CN="Deutsches Architekturmuseum (DAM)":MAILTO:info.dam@stadt-frankfurt.de
END:VEVENT
BEGIN:VEVENT
DTSTART;TZID=Europe/Berlin:20201029T170000
DTEND;TZID=Europe/Berlin:20201029T190000
DTSTAMP:20260423T001658
CREATED:20201020T092755Z
LAST-MODIFIED:20201022T095005Z
UID:10048595-1603990800-1603998000@tempo.dam-online.de
SUMMARY:Livestream / Preisverleihung Internationaler Hochhauspreis 2020
DESCRIPTION:Donnerstag\, 29. Oktober 2020\, 17-19 Uhr\nWir freuen uns sehr\, dass der 9. Internationale Hochhaus Preis live zu Ihnen nach Hause kommt. Schalten Sie am 29. Oktober um 17.00 Uhr MEZ ein und sehen Sie unsere Preisverleihung direkt aus der Paulskirche in Deutschlands Hochhaus-Metropole Frankfurt am Main:\nhttps://international-highrise-award.com/\nDer Internationale Hochhaus Preis (IHP) gilt als der weltweit wichtigste Preis für Hochhäuser. Alle zwei Jahre zeichnet eine internationale Jury ausgewählte Hochhausprojekte aus\, die sich durch zukunftsweisende Gestaltung\, innovative Bautechnik\, städtebauliche Einbindung und Nachhaltigkeit auszeichnen. Der Preis wurde 2003 von der Stadt Frankfurt am Main\, dem Deutschen Architekturmuseum (DAM) und der DekaBank ins Leben gerufen.\n\nDie Veranstaltung findet in englischer Sprache statt. \n\nFinalisten Internationaler Hochhaus Preis 2020:\n– Omniturm (Frankfurt am Main / Deutschland) von BIG – Bjarke Ingels Group\, Kopenhagen / Dänemark\, New York / USA\n– Eden (Singapur) von Heatherwick Studio\, London / Großbritannien\n– Norra Tornen (Stockholm / Schweden) von OMA Office for Metropolitan Architecture\, Rotterdam / Niederlande\n– The Stratford (London / Großbritannien) von Skidmore\, Owings & Merrill\, London / Großbritannien\n– Leeza SOHO (Peking / China) von Zaha Hadid Architects\, London / Großbritannien \n@bjarkeingels @big_builds @commerzbank @omniturm_living @officialheatherwickstudio\n@swireproperties @eden.singapore\n@oscarproperties @norratornen_ @skidmoreowingsmerrill\n@manhattanloftco @thestratford @zahahadidarchitects @soho_china\n\nAusstellung:\nBest Highrises 2020/21 – Internationaler Hochhaus Preis 2020\n31. Oktober 2020 – 21. Februar 2021 im Deutschen Architekturmuseum (DAM)
URL:https://tempo.dam-online.de/veranstaltung/virtual-award-ceremony-international-highrise-award-2020/
LOCATION:online\, Deutschland
CATEGORIES:Architekturpreis,Veranstaltung
ATTACH;FMTTYPE=image/jpeg:https://tempo.dam-online.de/wp-content/uploads/2020/08/IMG_4383.jpg
ORGANIZER;CN="Deutsches Architekturmuseum (DAM)":MAILTO:info.dam@stadt-frankfurt.de
END:VEVENT
END:VCALENDAR